BEGIN:VCALENDAR
VERSION:2.0
PRODID:-// - ECPv6.15.20//NONSGML v1.0//EN
CALSCALE:GREGORIAN
METHOD:PUBLISH
X-ORIGINAL-URL:https://zolamap.fr
X-WR-CALDESC:Évènements pour 
REFRESH-INTERVAL;VALUE=DURATION:PT1H
X-Robots-Tag:noindex
X-PUBLISHED-TTL:PT1H
BEGIN:VTIMEZONE
TZID:Europe/Paris
BEGIN:DAYLIGHT
TZOFFSETFROM:+0100
TZOFFSETTO:+0200
TZNAME:CEST
DTSTART:20250330T010000
END:DAYLIGHT
BEGIN:STANDARD
TZOFFSETFROM:+0200
TZOFFSETTO:+0100
TZNAME:CET
DTSTART:20251026T010000
END:STANDARD
BEGIN:DAYLIGHT
TZOFFSETFROM:+0100
TZOFFSETTO:+0200
TZNAME:CEST
DTSTART:20260329T010000
END:DAYLIGHT
BEGIN:STANDARD
TZOFFSETFROM:+0200
TZOFFSETTO:+0100
TZNAME:CET
DTSTART:20261025T010000
END:STANDARD
BEGIN:DAYLIGHT
TZOFFSETFROM:+0100
TZOFFSETTO:+0200
TZNAME:CEST
DTSTART:20270328T010000
END:DAYLIGHT
BEGIN:STANDARD
TZOFFSETFROM:+0200
TZOFFSETTO:+0100
TZNAME:CET
DTSTART:20271031T010000
END:STANDARD
END:VTIMEZONE
BEGIN:VEVENT
DTSTART;TZID=Europe/Paris:20260305T181500
DTEND;TZID=Europe/Paris:20260305T191500
DTSTAMP:20260421T120044
CREATED:20251116T085414Z
LAST-MODIFIED:20251116T085414Z
UID:17676-1772734500-1772738100@zolamap.fr
SUMMARY:Légumes & fruits hiver 2025-2026
DESCRIPTION:
URL:https://zolamap.fr/index.php/event/legumes-fruits-hiver-2025-2026-13/
LOCATION:Zolamap\, Ecole Emile Zola\, Villeurbanne
END:VEVENT
BEGIN:VEVENT
DTSTART;TZID=Europe/Paris:20260305T181500
DTEND;TZID=Europe/Paris:20260305T191500
DTSTAMP:20260421T120044
CREATED:20251116T090015Z
LAST-MODIFIED:20260102T175045Z
UID:17687-1772734500-1772738100@zolamap.fr
SUMMARY:Poulet/oeufs automne/hiver 2025-2026
DESCRIPTION:
URL:https://zolamap.fr/index.php/event/poulet-oeufs-automne-hiver-2025-5/
LOCATION:Zolamap\, Ecole Emile Zola\, Villeurbanne
END:VEVENT
BEGIN:VEVENT
DTSTART;TZID=Europe/Paris:20260305T181500
DTEND;TZID=Europe/Paris:20260305T191500
DTSTAMP:20260421T120044
CREATED:20251116T091256Z
LAST-MODIFIED:20251116T091256Z
UID:17717-1772734500-1772738100@zolamap.fr
SUMMARY:Pain Automne Hiver 2025-26 VF
DESCRIPTION:
URL:https://zolamap.fr/index.php/event/pain-automne-hiver-2025-26-vf-14/
LOCATION:Zolamap\, Ecole Emile Zola\, Villeurbanne
END:VEVENT
BEGIN:VEVENT
DTSTART;TZID=Europe/Paris:20260312T181500
DTEND;TZID=Europe/Paris:20260312T191500
DTSTAMP:20260421T120044
CREATED:20251116T091340Z
LAST-MODIFIED:20251116T091340Z
UID:17719-1773339300-1773342900@zolamap.fr
SUMMARY:Pain Automne Hiver 2025-26 VF
DESCRIPTION:
URL:https://zolamap.fr/index.php/event/pain-automne-hiver-2025-26-vf-15/
LOCATION:Zolamap\, Ecole Emile Zola\, Villeurbanne
END:VEVENT
BEGIN:VEVENT
DTSTART;TZID=Europe/Paris:20260319T181500
DTEND;TZID=Europe/Paris:20260319T191500
DTSTAMP:20260421T120044
CREATED:20251116T091405Z
LAST-MODIFIED:20251116T091405Z
UID:17721-1773944100-1773947700@zolamap.fr
SUMMARY:Pain Automne Hiver 2025-26 VF
DESCRIPTION:
URL:https://zolamap.fr/index.php/event/pain-automne-hiver-2025-26-vf-16/
LOCATION:Zolamap\, Ecole Emile Zola\, Villeurbanne
END:VEVENT
BEGIN:VEVENT
DTSTART;VALUE=DATE:20260326
DTEND;VALUE=DATE:20260327
DTSTAMP:20260421T120044
CREATED:20250903T065839Z
LAST-MODIFIED:20250903T065839Z
UID:17539-1774483200-1774569599@zolamap.fr
SUMMARY:Miels et plantes
DESCRIPTION:
URL:https://zolamap.fr/index.php/event/miels-et-plantes-6/
END:VEVENT
BEGIN:VEVENT
DTSTART;TZID=Europe/Paris:20260326T181500
DTEND;TZID=Europe/Paris:20260326T191500
DTSTAMP:20260421T120044
CREATED:20251116T091447Z
LAST-MODIFIED:20251116T091447Z
UID:17723-1774548900-1774552500@zolamap.fr
SUMMARY:Pain Automne Hiver 2025-26 VF
DESCRIPTION:
URL:https://zolamap.fr/index.php/event/pain-automne-hiver-2025-26-vf-17/
LOCATION:Zolamap\, Ecole Emile Zola\, Villeurbanne
END:VEVENT
BEGIN:VEVENT
DTSTART;TZID=Europe/Paris:20260326T181500
DTEND;TZID=Europe/Paris:20260326T191500
DTSTAMP:20260421T120044
CREATED:20251116T091810Z
LAST-MODIFIED:20251116T091810Z
UID:17735-1774548900-1774552500@zolamap.fr
SUMMARY:VIANDE DE PORC HIVER 2025-2026
DESCRIPTION:
URL:https://zolamap.fr/index.php/event/viande-de-porc-hiver-2025-2026-4/
LOCATION:Zolamap\, Ecole Emile Zola\, Villeurbanne
END:VEVENT
END:VCALENDAR