BEGIN:VCALENDAR
VERSION:2.0
PRODID:-// - ECPv6.15.20//NONSGML v1.0//EN
CALSCALE:GREGORIAN
METHOD:PUBLISH
X-ORIGINAL-URL:https://zolamap.fr
X-WR-CALDESC:Évènements pour 
REFRESH-INTERVAL;VALUE=DURATION:PT1H
X-Robots-Tag:noindex
X-PUBLISHED-TTL:PT1H
BEGIN:VTIMEZONE
TZID:Europe/Paris
BEGIN:DAYLIGHT
TZOFFSETFROM:+0100
TZOFFSETTO:+0200
TZNAME:CEST
DTSTART:20240331T010000
END:DAYLIGHT
BEGIN:STANDARD
TZOFFSETFROM:+0200
TZOFFSETTO:+0100
TZNAME:CET
DTSTART:20241027T010000
END:STANDARD
BEGIN:DAYLIGHT
TZOFFSETFROM:+0100
TZOFFSETTO:+0200
TZNAME:CEST
DTSTART:20250330T010000
END:DAYLIGHT
BEGIN:STANDARD
TZOFFSETFROM:+0200
TZOFFSETTO:+0100
TZNAME:CET
DTSTART:20251026T010000
END:STANDARD
BEGIN:DAYLIGHT
TZOFFSETFROM:+0100
TZOFFSETTO:+0200
TZNAME:CEST
DTSTART:20260329T010000
END:DAYLIGHT
BEGIN:STANDARD
TZOFFSETFROM:+0200
TZOFFSETTO:+0100
TZNAME:CET
DTSTART:20261025T010000
END:STANDARD
END:VTIMEZONE
BEGIN:VEVENT
DTSTART;VALUE=DATE:20251002
DTEND;VALUE=DATE:20251003
DTSTAMP:20260419T171120
CREATED:20250316T173956Z
LAST-MODIFIED:20250316T173956Z
UID:17315-1759363200-1759449599@zolamap.fr
SUMMARY:Vins Printemps Eté 2025
DESCRIPTION:
URL:https://zolamap.fr/index.php/event/vins-printemps-ete-2025-23/
LOCATION:Zolamap\, Ecole Emile Zola\, Villeurbanne
END:VEVENT
BEGIN:VEVENT
DTSTART;VALUE=DATE:20251002
DTEND;VALUE=DATE:20251003
DTSTAMP:20260419T171120
CREATED:20250316T180353Z
LAST-MODIFIED:20250316T180353Z
UID:17357-1759363200-1759449599@zolamap.fr
SUMMARY:Légumes & fruits hiver - Eté
DESCRIPTION:
URL:https://zolamap.fr/index.php/event/legumes-fruits-hiver-ete-18/
LOCATION:Zolamap\, Ecole Emile Zola\, Villeurbanne
END:VEVENT
BEGIN:VEVENT
DTSTART;VALUE=DATE:20251002
DTEND;VALUE=DATE:20251003
DTSTAMP:20260419T171120
CREATED:20250316T181509Z
LAST-MODIFIED:20250316T181509Z
UID:17391-1759363200-1759449599@zolamap.fr
SUMMARY:Viande de porc été
DESCRIPTION:
URL:https://zolamap.fr/index.php/event/viande-de-porc-ete-5/
LOCATION:Zolamap\, Ecole Emile Zola\, Villeurbanne
END:VEVENT
BEGIN:VEVENT
DTSTART;VALUE=DATE:20251002
DTEND;VALUE=DATE:20251003
DTSTAMP:20260419T171120
CREATED:20250316T181804Z
LAST-MODIFIED:20250316T181804Z
UID:17401-1759363200-1759449599@zolamap.fr
SUMMARY:CHARCUTERIE ÉTÉ
DESCRIPTION:
URL:https://zolamap.fr/index.php/event/charcuterie-ete-5/
LOCATION:Zolamap\, Ecole Emile Zola\, Villeurbanne
END:VEVENT
BEGIN:VEVENT
DTSTART;VALUE=DATE:20251002
DTEND;VALUE=DATE:20251003
DTSTAMP:20260419T171120
CREATED:20250316T183007Z
LAST-MODIFIED:20250316T183007Z
UID:17446-1759363200-1759449599@zolamap.fr
SUMMARY:Pain Printemps Eté
DESCRIPTION:
URL:https://zolamap.fr/index.php/event/pain-printemps-ete-21/
LOCATION:Zolamap\, Ecole Emile Zola\, Villeurbanne
END:VEVENT
BEGIN:VEVENT
DTSTART;VALUE=DATE:20251009
DTEND;VALUE=DATE:20251010
DTSTAMP:20260419T171120
CREATED:20250316T174023Z
LAST-MODIFIED:20250316T174023Z
UID:17317-1759968000-1760054399@zolamap.fr
SUMMARY:Vins Printemps Eté 2025
DESCRIPTION:
URL:https://zolamap.fr/index.php/event/vins-printemps-ete-2025-24/
LOCATION:Zolamap\, Ecole Emile Zola\, Villeurbanne
END:VEVENT
BEGIN:VEVENT
DTSTART;VALUE=DATE:20251009
DTEND;VALUE=DATE:20251010
DTSTAMP:20260419T171120
CREATED:20250316T180422Z
LAST-MODIFIED:20250316T180422Z
UID:17359-1759968000-1760054399@zolamap.fr
SUMMARY:Légumes & fruits hiver - Eté
DESCRIPTION:
URL:https://zolamap.fr/index.php/event/legumes-fruits-hiver-ete-19/
LOCATION:Zolamap\, Ecole Emile Zola\, Villeurbanne
END:VEVENT
BEGIN:VEVENT
DTSTART;VALUE=DATE:20251009
DTEND;VALUE=DATE:20251010
DTSTAMP:20260419T171120
CREATED:20250316T182906Z
LAST-MODIFIED:20250316T182906Z
UID:17444-1759968000-1760054399@zolamap.fr
SUMMARY:Pain Printemps Eté
DESCRIPTION:
URL:https://zolamap.fr/index.php/event/pain-printemps-ete-20/
LOCATION:Zolamap\, Ecole Emile Zola\, Villeurbanne
END:VEVENT
BEGIN:VEVENT
DTSTART;VALUE=DATE:20251016
DTEND;VALUE=DATE:20251017
DTSTAMP:20260419T171120
CREATED:20250316T165421Z
LAST-MODIFIED:20250316T165516Z
UID:17265-1760572800-1760659199@zolamap.fr
SUMMARY:Poulets\, œufs\, plats cuisinés - régul
DESCRIPTION:
URL:https://zolamap.fr/index.php/event/poulets-oeufs-plats-cuisines-11/
END:VEVENT
BEGIN:VEVENT
DTSTART;VALUE=DATE:20251016
DTEND;VALUE=DATE:20251017
DTSTAMP:20260419T171120
CREATED:20250316T174046Z
LAST-MODIFIED:20250316T174046Z
UID:17319-1760572800-1760659199@zolamap.fr
SUMMARY:Vins Printemps Eté 2025
DESCRIPTION:
URL:https://zolamap.fr/index.php/event/vins-printemps-ete-2025-25/
LOCATION:Zolamap\, Ecole Emile Zola\, Villeurbanne
END:VEVENT
BEGIN:VEVENT
DTSTART;VALUE=DATE:20251016
DTEND;VALUE=DATE:20251017
DTSTAMP:20260419T171120
CREATED:20250903T065928Z
LAST-MODIFIED:20250903T065928Z
UID:17541-1760572800-1760659199@zolamap.fr
SUMMARY:Miels et plantes
DESCRIPTION:
URL:https://zolamap.fr/index.php/event/miels-et-plantes-7/
END:VEVENT
BEGIN:VEVENT
DTSTART;VALUE=DATE:20251023
DTEND;VALUE=DATE:20251024
DTSTAMP:20260419T171120
CREATED:20250316T174108Z
LAST-MODIFIED:20250316T174108Z
UID:17321-1761177600-1761263999@zolamap.fr
SUMMARY:Vins Printemps Eté 2025
DESCRIPTION:
URL:https://zolamap.fr/index.php/event/vins-printemps-ete-2025-26/
LOCATION:Zolamap\, Ecole Emile Zola\, Villeurbanne
END:VEVENT
BEGIN:VEVENT
DTSTART;VALUE=DATE:20251023
DTEND;VALUE=DATE:20251024
DTSTAMP:20260419T171120
CREATED:20250316T183029Z
LAST-MODIFIED:20250316T183029Z
UID:17448-1761177600-1761263999@zolamap.fr
SUMMARY:Pain Printemps Eté
DESCRIPTION:
URL:https://zolamap.fr/index.php/event/pain-printemps-ete-22/
LOCATION:Zolamap\, Ecole Emile Zola\, Villeurbanne
END:VEVENT
BEGIN:VEVENT
DTSTART;VALUE=DATE:20251023
DTEND;VALUE=DATE:20251024
DTSTAMP:20260419T171120
CREATED:20250316T183051Z
LAST-MODIFIED:20250316T183051Z
UID:17450-1761177600-1761263999@zolamap.fr
SUMMARY:Pain Printemps Eté
DESCRIPTION:
URL:https://zolamap.fr/index.php/event/pain-printemps-ete-23/
LOCATION:Zolamap\, Ecole Emile Zola\, Villeurbanne
END:VEVENT
END:VCALENDAR