BEGIN:VCALENDAR
VERSION:2.0
PRODID:-// - ECPv6.15.20//NONSGML v1.0//EN
CALSCALE:GREGORIAN
METHOD:PUBLISH
X-ORIGINAL-URL:https://zolamap.fr
X-WR-CALDESC:Évènements pour 
REFRESH-INTERVAL;VALUE=DURATION:PT1H
X-Robots-Tag:noindex
X-PUBLISHED-TTL:PT1H
BEGIN:VTIMEZONE
TZID:Europe/Paris
BEGIN:DAYLIGHT
TZOFFSETFROM:+0100
TZOFFSETTO:+0200
TZNAME:CEST
DTSTART:20240331T010000
END:DAYLIGHT
BEGIN:STANDARD
TZOFFSETFROM:+0200
TZOFFSETTO:+0100
TZNAME:CET
DTSTART:20241027T010000
END:STANDARD
BEGIN:DAYLIGHT
TZOFFSETFROM:+0100
TZOFFSETTO:+0200
TZNAME:CEST
DTSTART:20250330T010000
END:DAYLIGHT
BEGIN:STANDARD
TZOFFSETFROM:+0200
TZOFFSETTO:+0100
TZNAME:CET
DTSTART:20251026T010000
END:STANDARD
BEGIN:DAYLIGHT
TZOFFSETFROM:+0100
TZOFFSETTO:+0200
TZNAME:CEST
DTSTART:20260329T010000
END:DAYLIGHT
BEGIN:STANDARD
TZOFFSETFROM:+0200
TZOFFSETTO:+0100
TZNAME:CET
DTSTART:20261025T010000
END:STANDARD
END:VTIMEZONE
BEGIN:VEVENT
DTSTART;VALUE=DATE:20250904
DTEND;VALUE=DATE:20250905
DTSTAMP:20260419T183806
CREATED:20250316T173737Z
LAST-MODIFIED:20250316T173737Z
UID:17307-1756944000-1757030399@zolamap.fr
SUMMARY:Vins Printemps Eté 2025
DESCRIPTION:
URL:https://zolamap.fr/index.php/event/vins-printemps-ete-2025-19/
LOCATION:Zolamap\, Ecole Emile Zola\, Villeurbanne
END:VEVENT
BEGIN:VEVENT
DTSTART;VALUE=DATE:20250904
DTEND;VALUE=DATE:20250905
DTSTAMP:20260419T183806
CREATED:20250316T180153Z
LAST-MODIFIED:20250316T180153Z
UID:17349-1756944000-1757030399@zolamap.fr
SUMMARY:Légumes & fruits hiver - Eté
DESCRIPTION:
URL:https://zolamap.fr/index.php/event/legumes-fruits-hiver-ete-14/
LOCATION:Zolamap\, Ecole Emile Zola\, Villeurbanne
END:VEVENT
BEGIN:VEVENT
DTSTART;VALUE=DATE:20250904
DTEND;VALUE=DATE:20250905
DTSTAMP:20260419T183806
CREATED:20250316T181009Z
LAST-MODIFIED:20250316T181009Z
UID:17379-1756944000-1757030399@zolamap.fr
SUMMARY:Supplément fruits - Eté
DESCRIPTION:
URL:https://zolamap.fr/index.php/event/supplement-fruits-ete-10/
LOCATION:Zolamap\, Ecole Emile Zola\, Villeurbanne
END:VEVENT
BEGIN:VEVENT
DTSTART;VALUE=DATE:20250904
DTEND;VALUE=DATE:20250905
DTSTAMP:20260419T183806
CREATED:20250316T181451Z
LAST-MODIFIED:20250316T181451Z
UID:17389-1756944000-1757030399@zolamap.fr
SUMMARY:Viande de porc été
DESCRIPTION:
URL:https://zolamap.fr/index.php/event/viande-de-porc-ete-4/
LOCATION:Zolamap\, Ecole Emile Zola\, Villeurbanne
END:VEVENT
BEGIN:VEVENT
DTSTART;VALUE=DATE:20250904
DTEND;VALUE=DATE:20250905
DTSTAMP:20260419T183806
CREATED:20250316T181741Z
LAST-MODIFIED:20250316T181741Z
UID:17399-1756944000-1757030399@zolamap.fr
SUMMARY:CHARCUTERIE ÉTÉ
DESCRIPTION:
URL:https://zolamap.fr/index.php/event/charcuterie-ete-4/
LOCATION:Zolamap\, Ecole Emile Zola\, Villeurbanne
END:VEVENT
BEGIN:VEVENT
DTSTART;VALUE=DATE:20250904
DTEND;VALUE=DATE:20250905
DTSTAMP:20260419T183806
CREATED:20250316T182657Z
LAST-MODIFIED:20250316T182657Z
UID:17435-1756944000-1757030399@zolamap.fr
SUMMARY:Pain Printemps Eté
DESCRIPTION:
URL:https://zolamap.fr/index.php/event/pain-printemps-ete-17/
LOCATION:Zolamap\, Ecole Emile Zola\, Villeurbanne
END:VEVENT
BEGIN:VEVENT
DTSTART;VALUE=DATE:20250911
DTEND;VALUE=DATE:20250912
DTSTAMP:20260419T183806
CREATED:20250316T173800Z
LAST-MODIFIED:20250316T173800Z
UID:17309-1757548800-1757635199@zolamap.fr
SUMMARY:Vins Printemps Eté 2025
DESCRIPTION:
URL:https://zolamap.fr/index.php/event/vins-printemps-ete-2025-20/
LOCATION:Zolamap\, Ecole Emile Zola\, Villeurbanne
END:VEVENT
BEGIN:VEVENT
DTSTART;VALUE=DATE:20250911
DTEND;VALUE=DATE:20250912
DTSTAMP:20260419T183806
CREATED:20250316T180216Z
LAST-MODIFIED:20250316T180216Z
UID:17351-1757548800-1757635199@zolamap.fr
SUMMARY:Légumes & fruits hiver - Eté
DESCRIPTION:
URL:https://zolamap.fr/index.php/event/legumes-fruits-hiver-ete-15/
LOCATION:Zolamap\, Ecole Emile Zola\, Villeurbanne
END:VEVENT
BEGIN:VEVENT
DTSTART;VALUE=DATE:20250911
DTEND;VALUE=DATE:20250912
DTSTAMP:20260419T183806
CREATED:20250316T182723Z
LAST-MODIFIED:20250316T182723Z
UID:17437-1757548800-1757635199@zolamap.fr
SUMMARY:Pain Printemps Eté
DESCRIPTION:
URL:https://zolamap.fr/index.php/event/pain-printemps-ete-18/
LOCATION:Zolamap\, Ecole Emile Zola\, Villeurbanne
END:VEVENT
BEGIN:VEVENT
DTSTART;VALUE=DATE:20250911
DTEND;VALUE=DATE:20250912
DTSTAMP:20260419T183806
CREATED:20250903T064654Z
LAST-MODIFIED:20250903T064722Z
UID:17522-1757548800-1757635199@zolamap.fr
SUMMARY:Flash farines et pâtes
DESCRIPTION:
URL:https://zolamap.fr/index.php/event/flash-farines-et-pated/
END:VEVENT
BEGIN:VEVENT
DTSTART;VALUE=DATE:20250918
DTEND;VALUE=DATE:20250919
DTSTAMP:20260419T183806
CREATED:20250316T165357Z
LAST-MODIFIED:20250316T165357Z
UID:17263-1758153600-1758239999@zolamap.fr
SUMMARY:Poulets\, œufs\, plats cuisinés
DESCRIPTION:
URL:https://zolamap.fr/index.php/event/poulets-oeufs-plats-cuisines-10/
END:VEVENT
BEGIN:VEVENT
DTSTART;VALUE=DATE:20250918
DTEND;VALUE=DATE:20250919
DTSTAMP:20260419T183806
CREATED:20250316T173827Z
LAST-MODIFIED:20250316T173827Z
UID:17311-1758153600-1758239999@zolamap.fr
SUMMARY:Vins Printemps Eté 2025
DESCRIPTION:
URL:https://zolamap.fr/index.php/event/vins-printemps-ete-2025-21/
LOCATION:Zolamap\, Ecole Emile Zola\, Villeurbanne
END:VEVENT
BEGIN:VEVENT
DTSTART;VALUE=DATE:20250918
DTEND;VALUE=DATE:20250919
DTSTAMP:20260419T183806
CREATED:20250316T180310Z
LAST-MODIFIED:20250316T180310Z
UID:17353-1758153600-1758239999@zolamap.fr
SUMMARY:Légumes & fruits hiver - Eté
DESCRIPTION:
URL:https://zolamap.fr/index.php/event/legumes-fruits-hiver-ete-16/
LOCATION:Zolamap\, Ecole Emile Zola\, Villeurbanne
END:VEVENT
BEGIN:VEVENT
DTSTART;VALUE=DATE:20250918
DTEND;VALUE=DATE:20250919
DTSTAMP:20260419T183806
CREATED:20250316T182746Z
LAST-MODIFIED:20250316T182746Z
UID:17439-1758153600-1758239999@zolamap.fr
SUMMARY:Pain Printemps Eté
DESCRIPTION:
URL:https://zolamap.fr/index.php/event/pain-printemps-ete-19/
LOCATION:Zolamap\, Ecole Emile Zola\, Villeurbanne
END:VEVENT
BEGIN:VEVENT
DTSTART;VALUE=DATE:20250925
DTEND;VALUE=DATE:20250926
DTSTAMP:20260419T183806
CREATED:20250316T173900Z
LAST-MODIFIED:20250316T173900Z
UID:17313-1758758400-1758844799@zolamap.fr
SUMMARY:Vins Printemps Eté 2025
DESCRIPTION:
URL:https://zolamap.fr/index.php/event/vins-printemps-ete-2025-22/
LOCATION:Zolamap\, Ecole Emile Zola\, Villeurbanne
END:VEVENT
BEGIN:VEVENT
DTSTART;VALUE=DATE:20250925
DTEND;VALUE=DATE:20250926
DTSTAMP:20260419T183806
CREATED:20250316T180330Z
LAST-MODIFIED:20250316T180330Z
UID:17355-1758758400-1758844799@zolamap.fr
SUMMARY:Légumes & fruits hiver - Eté
DESCRIPTION:
URL:https://zolamap.fr/index.php/event/legumes-fruits-hiver-ete-17/
LOCATION:Zolamap\, Ecole Emile Zola\, Villeurbanne
END:VEVENT
BEGIN:VEVENT
DTSTART;VALUE=DATE:20250925
DTEND;VALUE=DATE:20250926
DTSTAMP:20260419T183806
CREATED:20250316T182817Z
LAST-MODIFIED:20250316T182829Z
UID:17441-1758758400-1758844799@zolamap.fr
SUMMARY:Pain Printemps Eté
DESCRIPTION:
URL:https://zolamap.fr/index.php/event/17441/
LOCATION:Zolamap\, Ecole Emile Zola\, Villeurbanne
END:VEVENT
END:VCALENDAR