BEGIN:VCALENDAR
VERSION:2.0
PRODID:-// - ECPv6.15.20//NONSGML v1.0//EN
CALSCALE:GREGORIAN
METHOD:PUBLISH
X-ORIGINAL-URL:https://zolamap.fr
X-WR-CALDESC:Évènements pour 
REFRESH-INTERVAL;VALUE=DURATION:PT1H
X-Robots-Tag:noindex
X-PUBLISHED-TTL:PT1H
BEGIN:VTIMEZONE
TZID:Europe/Paris
BEGIN:DAYLIGHT
TZOFFSETFROM:+0100
TZOFFSETTO:+0200
TZNAME:CEST
DTSTART:20240331T010000
END:DAYLIGHT
BEGIN:STANDARD
TZOFFSETFROM:+0200
TZOFFSETTO:+0100
TZNAME:CET
DTSTART:20241027T010000
END:STANDARD
BEGIN:DAYLIGHT
TZOFFSETFROM:+0100
TZOFFSETTO:+0200
TZNAME:CEST
DTSTART:20250330T010000
END:DAYLIGHT
BEGIN:STANDARD
TZOFFSETFROM:+0200
TZOFFSETTO:+0100
TZNAME:CET
DTSTART:20251026T010000
END:STANDARD
BEGIN:DAYLIGHT
TZOFFSETFROM:+0100
TZOFFSETTO:+0200
TZNAME:CEST
DTSTART:20260329T010000
END:DAYLIGHT
BEGIN:STANDARD
TZOFFSETFROM:+0200
TZOFFSETTO:+0100
TZNAME:CET
DTSTART:20261025T010000
END:STANDARD
END:VTIMEZONE
BEGIN:VEVENT
DTSTART;VALUE=DATE:20250703
DTEND;VALUE=DATE:20250704
DTSTAMP:20260419T212743
CREATED:20250316T165316Z
LAST-MODIFIED:20250316T165316Z
UID:17259-1751500800-1751587199@zolamap.fr
SUMMARY:Poulets\, œufs\, plats cuisinés
DESCRIPTION:
URL:https://zolamap.fr/index.php/event/poulets-oeufs-plats-cuisines-8/
END:VEVENT
BEGIN:VEVENT
DTSTART;VALUE=DATE:20250703
DTEND;VALUE=DATE:20250704
DTSTAMP:20260419T212743
CREATED:20250316T173436Z
LAST-MODIFIED:20250316T173436Z
UID:17295-1751500800-1751587199@zolamap.fr
SUMMARY:Vins Printemps Eté 2025
DESCRIPTION:
URL:https://zolamap.fr/index.php/event/vins-printemps-ete-2025-13/
LOCATION:Zolamap\, Ecole Emile Zola\, Villeurbanne
END:VEVENT
BEGIN:VEVENT
DTSTART;VALUE=DATE:20250703
DTEND;VALUE=DATE:20250704
DTSTAMP:20260419T212743
CREATED:20250316T175918Z
LAST-MODIFIED:20250316T175918Z
UID:17337-1751500800-1751587199@zolamap.fr
SUMMARY:Légumes & fruits hiver - Eté
DESCRIPTION:
URL:https://zolamap.fr/index.php/event/legumes-fruits-hiver-ete-8/
LOCATION:Zolamap\, Ecole Emile Zola\, Villeurbanne
END:VEVENT
BEGIN:VEVENT
DTSTART;VALUE=DATE:20250703
DTEND;VALUE=DATE:20250704
DTSTAMP:20260419T212743
CREATED:20250316T180750Z
LAST-MODIFIED:20250316T180750Z
UID:17367-1751500800-1751587199@zolamap.fr
SUMMARY:Supplément fruits - Eté
DESCRIPTION:
URL:https://zolamap.fr/index.php/event/supplement-fruits-ete-4/
LOCATION:Zolamap\, Ecole Emile Zola\, Villeurbanne
END:VEVENT
BEGIN:VEVENT
DTSTART;VALUE=DATE:20250703
DTEND;VALUE=DATE:20250704
DTSTAMP:20260419T212743
CREATED:20250316T182400Z
LAST-MODIFIED:20250316T182400Z
UID:17423-1751500800-1751587199@zolamap.fr
SUMMARY:Pain Printemps Eté
DESCRIPTION:
URL:https://zolamap.fr/index.php/event/pain-printemps-ete-11/
LOCATION:Zolamap\, Ecole Emile Zola\, Villeurbanne
END:VEVENT
BEGIN:VEVENT
DTSTART;VALUE=DATE:20250710
DTEND;VALUE=DATE:20250711
DTSTAMP:20260419T212743
CREATED:20250316T173504Z
LAST-MODIFIED:20250316T173504Z
UID:17297-1752105600-1752191999@zolamap.fr
SUMMARY:Vins Printemps Eté 2025
DESCRIPTION:
URL:https://zolamap.fr/index.php/event/vins-printemps-ete-2025-14/
LOCATION:Zolamap\, Ecole Emile Zola\, Villeurbanne
END:VEVENT
BEGIN:VEVENT
DTSTART;VALUE=DATE:20250710
DTEND;VALUE=DATE:20250711
DTSTAMP:20260419T212743
CREATED:20250316T175938Z
LAST-MODIFIED:20250316T175938Z
UID:17339-1752105600-1752191999@zolamap.fr
SUMMARY:Légumes & fruits hiver - Eté
DESCRIPTION:
URL:https://zolamap.fr/index.php/event/legumes-fruits-hiver-ete-9/
LOCATION:Zolamap\, Ecole Emile Zola\, Villeurbanne
END:VEVENT
BEGIN:VEVENT
DTSTART;VALUE=DATE:20250710
DTEND;VALUE=DATE:20250711
DTSTAMP:20260419T212743
CREATED:20250316T180816Z
LAST-MODIFIED:20250316T180816Z
UID:17369-1752105600-1752191999@zolamap.fr
SUMMARY:Supplément fruits - Eté
DESCRIPTION:
URL:https://zolamap.fr/index.php/event/supplement-fruits-ete-5/
LOCATION:Zolamap\, Ecole Emile Zola\, Villeurbanne
END:VEVENT
BEGIN:VEVENT
DTSTART;VALUE=DATE:20250710
DTEND;VALUE=DATE:20250711
DTSTAMP:20260419T212743
CREATED:20250316T181426Z
LAST-MODIFIED:20250316T181426Z
UID:17387-1752105600-1752191999@zolamap.fr
SUMMARY:Viande de porc été
DESCRIPTION:
URL:https://zolamap.fr/index.php/event/viande-de-porc-ete-3/
LOCATION:Zolamap\, Ecole Emile Zola\, Villeurbanne
END:VEVENT
BEGIN:VEVENT
DTSTART;VALUE=DATE:20250710
DTEND;VALUE=DATE:20250711
DTSTAMP:20260419T212743
CREATED:20250316T181651Z
LAST-MODIFIED:20250316T181651Z
UID:17397-1752105600-1752191999@zolamap.fr
SUMMARY:CHARCUTERIE ÉTÉ
DESCRIPTION:
URL:https://zolamap.fr/index.php/event/charcuterie-ete-3/
LOCATION:Zolamap\, Ecole Emile Zola\, Villeurbanne
END:VEVENT
BEGIN:VEVENT
DTSTART;VALUE=DATE:20250710
DTEND;VALUE=DATE:20250711
DTSTAMP:20260419T212743
CREATED:20250316T182426Z
LAST-MODIFIED:20250316T182426Z
UID:17425-1752105600-1752191999@zolamap.fr
SUMMARY:Pain Printemps Eté
DESCRIPTION:
URL:https://zolamap.fr/index.php/event/pain-printemps-ete-12/
LOCATION:Zolamap\, Ecole Emile Zola\, Villeurbanne
END:VEVENT
BEGIN:VEVENT
DTSTART;VALUE=DATE:20250717
DTEND;VALUE=DATE:20250718
DTSTAMP:20260419T212743
CREATED:20250316T173526Z
LAST-MODIFIED:20250316T173526Z
UID:17299-1752710400-1752796799@zolamap.fr
SUMMARY:Vins Printemps Eté 2025
DESCRIPTION:
URL:https://zolamap.fr/index.php/event/vins-printemps-ete-2025-15/
LOCATION:Zolamap\, Ecole Emile Zola\, Villeurbanne
END:VEVENT
BEGIN:VEVENT
DTSTART;VALUE=DATE:20250717
DTEND;VALUE=DATE:20250718
DTSTAMP:20260419T212743
CREATED:20250316T180005Z
LAST-MODIFIED:20250316T180005Z
UID:17341-1752710400-1752796799@zolamap.fr
SUMMARY:Légumes & fruits hiver - Eté
DESCRIPTION:
URL:https://zolamap.fr/index.php/event/legumes-fruits-hiver-ete-10/
LOCATION:Zolamap\, Ecole Emile Zola\, Villeurbanne
END:VEVENT
BEGIN:VEVENT
DTSTART;VALUE=DATE:20250717
DTEND;VALUE=DATE:20250718
DTSTAMP:20260419T212743
CREATED:20250316T180843Z
LAST-MODIFIED:20250316T180843Z
UID:17371-1752710400-1752796799@zolamap.fr
SUMMARY:Supplément fruits - Eté
DESCRIPTION:
URL:https://zolamap.fr/index.php/event/supplement-fruits-ete-6/
LOCATION:Zolamap\, Ecole Emile Zola\, Villeurbanne
END:VEVENT
BEGIN:VEVENT
DTSTART;VALUE=DATE:20250717
DTEND;VALUE=DATE:20250718
DTSTAMP:20260419T212743
CREATED:20250316T182445Z
LAST-MODIFIED:20250316T182445Z
UID:17427-1752710400-1752796799@zolamap.fr
SUMMARY:Pain Printemps Eté
DESCRIPTION:
URL:https://zolamap.fr/index.php/event/pain-printemps-ete-13/
LOCATION:Zolamap\, Ecole Emile Zola\, Villeurbanne
END:VEVENT
BEGIN:VEVENT
DTSTART;VALUE=DATE:20250724
DTEND;VALUE=DATE:20250725
DTSTAMP:20260419T212743
CREATED:20250316T173551Z
LAST-MODIFIED:20250316T173551Z
UID:17301-1753315200-1753401599@zolamap.fr
SUMMARY:Vins Printemps Eté 2025
DESCRIPTION:
URL:https://zolamap.fr/index.php/event/vins-printemps-ete-2025-16/
LOCATION:Zolamap\, Ecole Emile Zola\, Villeurbanne
END:VEVENT
BEGIN:VEVENT
DTSTART;VALUE=DATE:20250724
DTEND;VALUE=DATE:20250725
DTSTAMP:20260419T212743
CREATED:20250316T180034Z
LAST-MODIFIED:20250316T180034Z
UID:17343-1753315200-1753401599@zolamap.fr
SUMMARY:Légumes & fruits hiver - Eté
DESCRIPTION:
URL:https://zolamap.fr/index.php/event/legumes-fruits-hiver-ete-11/
LOCATION:Zolamap\, Ecole Emile Zola\, Villeurbanne
END:VEVENT
BEGIN:VEVENT
DTSTART;VALUE=DATE:20250724
DTEND;VALUE=DATE:20250725
DTSTAMP:20260419T212743
CREATED:20250316T180906Z
LAST-MODIFIED:20250316T180906Z
UID:17373-1753315200-1753401599@zolamap.fr
SUMMARY:Supplément fruits - Eté
DESCRIPTION:
URL:https://zolamap.fr/index.php/event/supplement-fruits-ete-7/
LOCATION:Zolamap\, Ecole Emile Zola\, Villeurbanne
END:VEVENT
BEGIN:VEVENT
DTSTART;VALUE=DATE:20250724
DTEND;VALUE=DATE:20250725
DTSTAMP:20260419T212743
CREATED:20250316T182501Z
LAST-MODIFIED:20250316T182501Z
UID:17429-1753315200-1753401599@zolamap.fr
SUMMARY:Pain Printemps Eté
DESCRIPTION:
URL:https://zolamap.fr/index.php/event/pain-printemps-ete-14/
LOCATION:Zolamap\, Ecole Emile Zola\, Villeurbanne
END:VEVENT
BEGIN:VEVENT
DTSTART;VALUE=DATE:20250731
DTEND;VALUE=DATE:20250801
DTSTAMP:20260419T212743
CREATED:20250316T173610Z
LAST-MODIFIED:20250316T173610Z
UID:17303-1753920000-1754006399@zolamap.fr
SUMMARY:Vins Printemps Eté 2025
DESCRIPTION:
URL:https://zolamap.fr/index.php/event/vins-printemps-ete-2025-17/
LOCATION:Zolamap\, Ecole Emile Zola\, Villeurbanne
END:VEVENT
BEGIN:VEVENT
DTSTART;VALUE=DATE:20250731
DTEND;VALUE=DATE:20250801
DTSTAMP:20260419T212743
CREATED:20250316T180059Z
LAST-MODIFIED:20250316T180059Z
UID:17345-1753920000-1754006399@zolamap.fr
SUMMARY:Légumes & fruits hiver - Eté
DESCRIPTION:
URL:https://zolamap.fr/index.php/event/legumes-fruits-hiver-ete-12/
LOCATION:Zolamap\, Ecole Emile Zola\, Villeurbanne
END:VEVENT
BEGIN:VEVENT
DTSTART;VALUE=DATE:20250731
DTEND;VALUE=DATE:20250801
DTSTAMP:20260419T212743
CREATED:20250316T180930Z
LAST-MODIFIED:20250316T180930Z
UID:17375-1753920000-1754006399@zolamap.fr
SUMMARY:Supplément fruits - Eté
DESCRIPTION:
URL:https://zolamap.fr/index.php/event/supplement-fruits-ete-8/
LOCATION:Zolamap\, Ecole Emile Zola\, Villeurbanne
END:VEVENT
BEGIN:VEVENT
DTSTART;VALUE=DATE:20250731
DTEND;VALUE=DATE:20250801
DTSTAMP:20260419T212743
CREATED:20250316T182530Z
LAST-MODIFIED:20250316T182530Z
UID:17431-1753920000-1754006399@zolamap.fr
SUMMARY:Pain Printemps Eté
DESCRIPTION:
URL:https://zolamap.fr/index.php/event/pain-printemps-ete-15/
LOCATION:Zolamap\, Ecole Emile Zola\, Villeurbanne
END:VEVENT
END:VCALENDAR