BEGIN:VCALENDAR
VERSION:2.0
PRODID:-// - ECPv6.15.20//NONSGML v1.0//EN
CALSCALE:GREGORIAN
METHOD:PUBLISH
X-ORIGINAL-URL:https://zolamap.fr
X-WR-CALDESC:Évènements pour 
REFRESH-INTERVAL;VALUE=DURATION:PT1H
X-Robots-Tag:noindex
X-PUBLISHED-TTL:PT1H
BEGIN:VTIMEZONE
TZID:Europe/Paris
BEGIN:DAYLIGHT
TZOFFSETFROM:+0100
TZOFFSETTO:+0200
TZNAME:CEST
DTSTART:20240331T010000
END:DAYLIGHT
BEGIN:STANDARD
TZOFFSETFROM:+0200
TZOFFSETTO:+0100
TZNAME:CET
DTSTART:20241027T010000
END:STANDARD
BEGIN:DAYLIGHT
TZOFFSETFROM:+0100
TZOFFSETTO:+0200
TZNAME:CEST
DTSTART:20250330T010000
END:DAYLIGHT
BEGIN:STANDARD
TZOFFSETFROM:+0200
TZOFFSETTO:+0100
TZNAME:CET
DTSTART:20251026T010000
END:STANDARD
BEGIN:DAYLIGHT
TZOFFSETFROM:+0100
TZOFFSETTO:+0200
TZNAME:CEST
DTSTART:20260329T010000
END:DAYLIGHT
BEGIN:STANDARD
TZOFFSETFROM:+0200
TZOFFSETTO:+0100
TZNAME:CET
DTSTART:20261025T010000
END:STANDARD
END:VTIMEZONE
BEGIN:VEVENT
DTSTART;TZID=Europe/Paris:20250313T000000
DTEND;TZID=Europe/Paris:20250313T235900
DTSTAMP:20260421T150728
CREATED:20250226T113419Z
LAST-MODIFIED:20250226T113532Z
UID:17209-1741824000-1741910340@zolamap.fr
SUMMARY:
DESCRIPTION:
URL:https://zolamap.fr/index.php/event/flash-lentilles-2/
END:VEVENT
BEGIN:VEVENT
DTSTART;VALUE=DATE:20250313
DTEND;VALUE=DATE:20250314
DTSTAMP:20260421T150728
CREATED:20240924T212038Z
LAST-MODIFIED:20240924T212038Z
UID:17039-1741824000-1741910399@zolamap.fr
SUMMARY:Légumes & fruits
DESCRIPTION:
URL:https://zolamap.fr/index.php/event/legumes-fruits-27/
LOCATION:Zolamap\, Ecole Emile Zola\, Villeurbanne
END:VEVENT
BEGIN:VEVENT
DTSTART;VALUE=DATE:20250313
DTEND;VALUE=DATE:20250314
DTSTAMP:20260421T150728
CREATED:20241015T204915Z
LAST-MODIFIED:20241015T204915Z
UID:17063-1741824000-1741910399@zolamap.fr
SUMMARY:Miel
DESCRIPTION:
URL:https://zolamap.fr/index.php/event/miel-10/
LOCATION:Zolamap\, Ecole Emile Zola\, Villeurbanne
END:VEVENT
BEGIN:VEVENT
DTSTART;VALUE=DATE:20250313
DTEND;VALUE=DATE:20250314
DTSTAMP:20260421T150728
CREATED:20241015T211128Z
LAST-MODIFIED:20241015T211128Z
UID:17110-1741824000-1741910399@zolamap.fr
SUMMARY:Vins Hiver 2024
DESCRIPTION:
URL:https://zolamap.fr/index.php/event/vins-hiver-2024-18/
LOCATION:Zolamap\, Ecole Emile Zola\, Villeurbanne
END:VEVENT
BEGIN:VEVENT
DTSTART;VALUE=DATE:20250313
DTEND;VALUE=DATE:20250314
DTSTAMP:20260421T150728
CREATED:20241107T212602Z
LAST-MODIFIED:20241107T212602Z
UID:17144-1741824000-1741910399@zolamap.fr
SUMMARY:Poulets\, œufs\, plats cuisinés
DESCRIPTION:
URL:https://zolamap.fr/index.php/event/poulets-oeufs-plats-cuisines-6/
END:VEVENT
BEGIN:VEVENT
DTSTART;VALUE=DATE:20250320
DTEND;VALUE=DATE:20250321
DTSTAMP:20260421T150728
CREATED:20241015T211715Z
LAST-MODIFIED:20241015T211715Z
UID:17123-1742428800-1742515199@zolamap.fr
SUMMARY:VIANDE DE PORC HIVER 2024-2025
DESCRIPTION:
URL:https://zolamap.fr/index.php/event/viande-de-porc-hiver-2024-2025-5/
LOCATION:Zolamap\, Ecole Emile Zola\, Villeurbanne
END:VEVENT
BEGIN:VEVENT
DTSTART;VALUE=DATE:20250320
DTEND;VALUE=DATE:20250321
DTSTAMP:20260421T150728
CREATED:20250316T132739Z
LAST-MODIFIED:20250316T132739Z
UID:17249-1742428800-1742515199@zolamap.fr
SUMMARY:CONTRAT FLASH Veau mars 2025
DESCRIPTION:
URL:https://zolamap.fr/index.php/event/contrat-flash-veau-mars-2025/
LOCATION:Zolamap\, Ecole Emile Zola\, Villeurbanne
END:VEVENT
BEGIN:VEVENT
DTSTART;VALUE=DATE:20250320
DTEND;VALUE=DATE:20250321
DTSTAMP:20260421T150728
CREATED:20250316T132808Z
LAST-MODIFIED:20250316T132808Z
UID:17251-1742428800-1742515199@zolamap.fr
SUMMARY:Agrumes
DESCRIPTION:
URL:https://zolamap.fr/index.php/event/agrumes/
LOCATION:Zolamap\, Ecole Emile Zola\, Villeurbanne
END:VEVENT
BEGIN:VEVENT
DTSTART;VALUE=DATE:20250320
DTEND;VALUE=DATE:20250321
DTSTAMP:20260421T150728
CREATED:20250316T172129Z
LAST-MODIFIED:20250316T172129Z
UID:17253-1742428800-1742515199@zolamap.fr
SUMMARY:Pain Printemps Eté 2025
DESCRIPTION:
URL:https://zolamap.fr/index.php/event/pain-printemps-ete-2025/
LOCATION:Zolamap\, Ecole Emile Zola\, Villeurbanne
END:VEVENT
BEGIN:VEVENT
DTSTART;VALUE=DATE:20250320
DTEND;VALUE=DATE:20250321
DTSTAMP:20260421T150728
CREATED:20250316T172412Z
LAST-MODIFIED:20250316T172412Z
UID:17269-1742428800-1742515199@zolamap.fr
SUMMARY:Vins Printemps Eté 2025
DESCRIPTION:
URL:https://zolamap.fr/index.php/event/vins-printemps-ete-2025/
LOCATION:Zolamap\, Ecole Emile Zola\, Villeurbanne
END:VEVENT
BEGIN:VEVENT
DTSTART;VALUE=DATE:20250327
DTEND;VALUE=DATE:20250328
DTSTAMP:20260421T150728
CREATED:20250316T172432Z
LAST-MODIFIED:20250316T172432Z
UID:17271-1743033600-1743119999@zolamap.fr
SUMMARY:Vins Printemps Eté 2025
DESCRIPTION:
URL:https://zolamap.fr/index.php/event/vins-printemps-ete-2025-2/
LOCATION:Zolamap\, Ecole Emile Zola\, Villeurbanne
END:VEVENT
BEGIN:VEVENT
DTSTART;VALUE=DATE:20250327
DTEND;VALUE=DATE:20250328
DTSTAMP:20260421T150728
CREATED:20250316T181904Z
LAST-MODIFIED:20250316T181904Z
UID:17403-1743033600-1743119999@zolamap.fr
SUMMARY:Pain Printemps Eté
DESCRIPTION:
URL:https://zolamap.fr/index.php/event/pain-printemps-ete/
LOCATION:Zolamap\, Ecole Emile Zola\, Villeurbanne
END:VEVENT
END:VCALENDAR