BEGIN:VCALENDAR
VERSION:2.0
PRODID:-// - ECPv6.15.20//NONSGML v1.0//EN
CALSCALE:GREGORIAN
METHOD:PUBLISH
X-ORIGINAL-URL:https://zolamap.fr
X-WR-CALDESC:Évènements pour 
REFRESH-INTERVAL;VALUE=DURATION:PT1H
X-Robots-Tag:noindex
X-PUBLISHED-TTL:PT1H
BEGIN:VTIMEZONE
TZID:Europe/Paris
BEGIN:DAYLIGHT
TZOFFSETFROM:+0100
TZOFFSETTO:+0200
TZNAME:CEST
DTSTART:20230326T010000
END:DAYLIGHT
BEGIN:STANDARD
TZOFFSETFROM:+0200
TZOFFSETTO:+0100
TZNAME:CET
DTSTART:20231029T010000
END:STANDARD
BEGIN:DAYLIGHT
TZOFFSETFROM:+0100
TZOFFSETTO:+0200
TZNAME:CEST
DTSTART:20240331T010000
END:DAYLIGHT
BEGIN:STANDARD
TZOFFSETFROM:+0200
TZOFFSETTO:+0100
TZNAME:CET
DTSTART:20241027T010000
END:STANDARD
BEGIN:DAYLIGHT
TZOFFSETFROM:+0100
TZOFFSETTO:+0200
TZNAME:CEST
DTSTART:20250330T010000
END:DAYLIGHT
BEGIN:STANDARD
TZOFFSETFROM:+0200
TZOFFSETTO:+0100
TZNAME:CET
DTSTART:20251026T010000
END:STANDARD
END:VTIMEZONE
BEGIN:VEVENT
DTSTART;VALUE=DATE:20241205
DTEND;VALUE=DATE:20241206
DTSTAMP:20260421T193357
CREATED:20240923T160948Z
LAST-MODIFIED:20241106T120336Z
UID:16948-1733356800-1733443199@zolamap.fr
SUMMARY:Farine et pâtes
DESCRIPTION:
URL:https://zolamap.fr/index.php/event/farine-et-pates/
END:VEVENT
BEGIN:VEVENT
DTSTART;VALUE=DATE:20241205
DTEND;VALUE=DATE:20241206
DTSTAMP:20260421T193357
CREATED:20240924T211332Z
LAST-MODIFIED:20240924T211332Z
UID:17015-1733356800-1733443199@zolamap.fr
SUMMARY:Légumes & fruits
DESCRIPTION:
URL:https://zolamap.fr/index.php/event/legumes-fruits-17/
LOCATION:Zolamap\, Ecole Emile Zola\, Villeurbanne
END:VEVENT
BEGIN:VEVENT
DTSTART;VALUE=DATE:20241205
DTEND;VALUE=DATE:20241206
DTSTAMP:20260421T193357
CREATED:20241015T210459Z
LAST-MODIFIED:20241015T210459Z
UID:17084-1733356800-1733443199@zolamap.fr
SUMMARY:Vins Hiver 2024
DESCRIPTION:
URL:https://zolamap.fr/index.php/event/vins-hiver-2024-5/
LOCATION:Zolamap\, Ecole Emile Zola\, Villeurbanne
END:VEVENT
BEGIN:VEVENT
DTSTART;VALUE=DATE:20241212
DTEND;VALUE=DATE:20241213
DTSTAMP:20260421T193357
CREATED:20240923T161108Z
LAST-MODIFIED:20240923T161108Z
UID:16954-1733961600-1734047999@zolamap.fr
SUMMARY:Noix
DESCRIPTION:
URL:https://zolamap.fr/index.php/event/noix-4/
END:VEVENT
BEGIN:VEVENT
DTSTART;VALUE=DATE:20241212
DTEND;VALUE=DATE:20241213
DTSTAMP:20260421T193357
CREATED:20240924T211400Z
LAST-MODIFIED:20240924T211525Z
UID:17017-1733961600-1734047999@zolamap.fr
SUMMARY:Légumes & fruits
DESCRIPTION:
URL:https://zolamap.fr/index.php/event/https-i-imgur-com-dqzuafn-png/
LOCATION:Zolamap\, Ecole Emile Zola\, Villeurbanne
END:VEVENT
BEGIN:VEVENT
DTSTART;VALUE=DATE:20241212
DTEND;VALUE=DATE:20241213
DTSTAMP:20260421T193357
CREATED:20241015T210523Z
LAST-MODIFIED:20241015T210523Z
UID:17086-1733961600-1734047999@zolamap.fr
SUMMARY:Vins Hiver 2024
DESCRIPTION:
URL:https://zolamap.fr/index.php/event/vins-hiver-2024-6/
LOCATION:Zolamap\, Ecole Emile Zola\, Villeurbanne
END:VEVENT
BEGIN:VEVENT
DTSTART;VALUE=DATE:20241212
DTEND;VALUE=DATE:20241213
DTSTAMP:20260421T193357
CREATED:20241015T210549Z
LAST-MODIFIED:20241015T210549Z
UID:17088-1733961600-1734047999@zolamap.fr
SUMMARY:Vins Hiver 2024
DESCRIPTION:
URL:https://zolamap.fr/index.php/event/vins-hiver-2024-7/
LOCATION:Zolamap\, Ecole Emile Zola\, Villeurbanne
END:VEVENT
BEGIN:VEVENT
DTSTART;VALUE=DATE:20241219
DTEND;VALUE=DATE:20241220
DTSTAMP:20260421T193357
CREATED:20240924T211604Z
LAST-MODIFIED:20240924T211604Z
UID:17021-1734566400-1734652799@zolamap.fr
SUMMARY:Légumes & fruits
DESCRIPTION:
URL:https://zolamap.fr/index.php/event/legumes-fruits-18/
LOCATION:Zolamap\, Ecole Emile Zola\, Villeurbanne
END:VEVENT
BEGIN:VEVENT
DTSTART;VALUE=DATE:20241219
DTEND;VALUE=DATE:20241220
DTSTAMP:20260421T193357
CREATED:20241015T204757Z
LAST-MODIFIED:20241015T204757Z
UID:17059-1734566400-1734652799@zolamap.fr
SUMMARY:Miel
DESCRIPTION:
URL:https://zolamap.fr/index.php/event/miel-8/
LOCATION:Zolamap\, Ecole Emile Zola\, Villeurbanne
END:VEVENT
BEGIN:VEVENT
DTSTART;VALUE=DATE:20241219
DTEND;VALUE=DATE:20241220
DTSTAMP:20260421T193357
CREATED:20241015T210612Z
LAST-MODIFIED:20241015T210612Z
UID:17090-1734566400-1734652799@zolamap.fr
SUMMARY:Vins Hiver 2024
DESCRIPTION:
URL:https://zolamap.fr/index.php/event/vins-hiver-2024-8/
LOCATION:Zolamap\, Ecole Emile Zola\, Villeurbanne
END:VEVENT
BEGIN:VEVENT
DTSTART;VALUE=DATE:20241219
DTEND;VALUE=DATE:20241220
DTSTAMP:20260421T193357
CREATED:20241015T211414Z
LAST-MODIFIED:20241015T211414Z
UID:17116-1734566400-1734652799@zolamap.fr
SUMMARY:VIANDE DE PORC HIVER 2024-2025
DESCRIPTION:
URL:https://zolamap.fr/index.php/event/viande-de-porc-hiver-2024-2025-3/
LOCATION:Zolamap\, Ecole Emile Zola\, Villeurbanne
END:VEVENT
BEGIN:VEVENT
DTSTART;VALUE=DATE:20241219
DTEND;VALUE=DATE:20241220
DTSTAMP:20260421T193357
CREATED:20241107T211723Z
LAST-MODIFIED:20241107T211723Z
UID:17135-1734566400-1734652799@zolamap.fr
SUMMARY:Poulets\, œufs\, plats cuisinés
DESCRIPTION:
URL:https://zolamap.fr/index.php/event/poulets-oeufs-plats-cuisines-3/
END:VEVENT
BEGIN:VEVENT
DTSTART;VALUE=DATE:20241219
DTEND;VALUE=DATE:20241220
DTSTAMP:20260421T193357
CREATED:20241107T211841Z
LAST-MODIFIED:20241107T211841Z
UID:17137-1734566400-1734652799@zolamap.fr
SUMMARY:Flash volailles de Noël
DESCRIPTION:
URL:https://zolamap.fr/index.php/event/flash-volailles-de-noel/
END:VEVENT
END:VCALENDAR