BEGIN:VCALENDAR
VERSION:2.0
PRODID:-// - ECPv6.15.20//NONSGML v1.0//EN
CALSCALE:GREGORIAN
METHOD:PUBLISH
X-ORIGINAL-URL:https://zolamap.fr
X-WR-CALDESC:Évènements pour 
REFRESH-INTERVAL;VALUE=DURATION:PT1H
X-Robots-Tag:noindex
X-PUBLISHED-TTL:PT1H
BEGIN:VTIMEZONE
TZID:Europe/Paris
BEGIN:DAYLIGHT
TZOFFSETFROM:+0100
TZOFFSETTO:+0200
TZNAME:CEST
DTSTART:20230326T010000
END:DAYLIGHT
BEGIN:STANDARD
TZOFFSETFROM:+0200
TZOFFSETTO:+0100
TZNAME:CET
DTSTART:20231029T010000
END:STANDARD
BEGIN:DAYLIGHT
TZOFFSETFROM:+0100
TZOFFSETTO:+0200
TZNAME:CEST
DTSTART:20240331T010000
END:DAYLIGHT
BEGIN:STANDARD
TZOFFSETFROM:+0200
TZOFFSETTO:+0100
TZNAME:CET
DTSTART:20241027T010000
END:STANDARD
BEGIN:DAYLIGHT
TZOFFSETFROM:+0100
TZOFFSETTO:+0200
TZNAME:CEST
DTSTART:20250330T010000
END:DAYLIGHT
BEGIN:STANDARD
TZOFFSETFROM:+0200
TZOFFSETTO:+0100
TZNAME:CET
DTSTART:20251026T010000
END:STANDARD
END:VTIMEZONE
BEGIN:VEVENT
DTSTART;TZID=Europe/Paris:20240704T181500
DTEND;TZID=Europe/Paris:20240704T191500
DTSTAMP:20260422T032716
CREATED:20240326T182531Z
LAST-MODIFIED:20240326T182531Z
UID:2938-1720116900-1720120500@zolamap.fr
SUMMARY:Légumes et fruits
DESCRIPTION:Légumes et fruits
URL:https://zolamap.fr/index.php/event/legumes-et-fruits-6/
LOCATION:Zolamap\, Ecole Emile Zola\, Villeurbanne
END:VEVENT
BEGIN:VEVENT
DTSTART;TZID=Europe/Paris:20240704T181500
DTEND;TZID=Europe/Paris:20240704T191500
DTSTAMP:20260422T032716
CREATED:20240326T210412Z
LAST-MODIFIED:20240326T210412Z
UID:3023-1720116900-1720120500@zolamap.fr
SUMMARY:Pain
DESCRIPTION:
URL:https://zolamap.fr/index.php/event/pain-17/
LOCATION:Zolamap\, Ecole Emile Zola\, Villeurbanne
END:VEVENT
BEGIN:VEVENT
DTSTART;TZID=Europe/Paris:20240704T181500
DTEND;TZID=Europe/Paris:20240704T191500
DTSTAMP:20260422T032716
CREATED:20240326T211459Z
LAST-MODIFIED:20240326T211459Z
UID:3058-1720116900-1720120500@zolamap.fr
SUMMARY:Vins
DESCRIPTION:
URL:https://zolamap.fr/index.php/event/vins-9/
LOCATION:Zolamap\, Ecole Emile Zola\, Villeurbanne
END:VEVENT
BEGIN:VEVENT
DTSTART;VALUE=DATE:20240711
DTEND;VALUE=DATE:20240712
DTSTAMP:20260422T032716
CREATED:20240326T203006Z
LAST-MODIFIED:20240326T203006Z
UID:3000-1720656000-1720742399@zolamap.fr
SUMMARY:Fromages de chèvre
DESCRIPTION:
URL:https://zolamap.fr/index.php/event/fromages-de-chevre-8/
LOCATION:Zolamap\, Ecole Emile Zola\, Villeurbanne
END:VEVENT
BEGIN:VEVENT
DTSTART;TZID=Europe/Paris:20240711T181500
DTEND;TZID=Europe/Paris:20240711T191500
DTSTAMP:20260422T032716
CREATED:20240326T182634Z
LAST-MODIFIED:20240326T182634Z
UID:2940-1720721700-1720725300@zolamap.fr
SUMMARY:Légumes et fruits
DESCRIPTION:Légumes et fruits
URL:https://zolamap.fr/index.php/event/legumes-et-fruits-7/
LOCATION:Zolamap\, Ecole Emile Zola\, Villeurbanne
END:VEVENT
BEGIN:VEVENT
DTSTART;TZID=Europe/Paris:20240711T181500
DTEND;TZID=Europe/Paris:20240711T191500
DTSTAMP:20260422T032716
CREATED:20240326T210412Z
LAST-MODIFIED:20240326T210412Z
UID:3024-1720721700-1720725300@zolamap.fr
SUMMARY:Pain
DESCRIPTION:
URL:https://zolamap.fr/index.php/event/pain-16/
LOCATION:Zolamap\, Ecole Emile Zola\, Villeurbanne
END:VEVENT
BEGIN:VEVENT
DTSTART;TZID=Europe/Paris:20240711T181500
DTEND;TZID=Europe/Paris:20240711T191500
DTSTAMP:20260422T032716
CREATED:20240326T211459Z
LAST-MODIFIED:20240326T211459Z
UID:3059-1720721700-1720725300@zolamap.fr
SUMMARY:Vins
DESCRIPTION:
URL:https://zolamap.fr/index.php/event/vins-10/
LOCATION:Zolamap\, Ecole Emile Zola\, Villeurbanne
END:VEVENT
BEGIN:VEVENT
DTSTART;TZID=Europe/Paris:20240711T181500
DTEND;TZID=Europe/Paris:20240711T191500
DTSTAMP:20260422T032716
CREATED:20240518T114821Z
LAST-MODIFIED:20240518T215412Z
UID:3125-1720721700-1720725300@zolamap.fr
SUMMARY:Poulets\, œufs\, plats cuisinés
DESCRIPTION:
URL:https://zolamap.fr/index.php/event/panier-de-poulets-moyens-et-gros-oeufs-plats-cuisines-2/
LOCATION:Zolamap\, Ecole Emile Zola\, Villeurbanne
END:VEVENT
BEGIN:VEVENT
DTSTART;TZID=Europe/Paris:20240718T181500
DTEND;TZID=Europe/Paris:20240718T191500
DTSTAMP:20260422T032716
CREATED:20240326T182743Z
LAST-MODIFIED:20240326T182743Z
UID:2942-1721326500-1721330100@zolamap.fr
SUMMARY:Légumes et fruits
DESCRIPTION:Légumes et fruits
URL:https://zolamap.fr/index.php/event/legumes-et-fruits-8/
LOCATION:Zolamap\, Ecole Emile Zola\, Villeurbanne
END:VEVENT
BEGIN:VEVENT
DTSTART;TZID=Europe/Paris:20240718T181500
DTEND;TZID=Europe/Paris:20240718T191500
DTSTAMP:20260422T032716
CREATED:20240326T182818Z
LAST-MODIFIED:20240326T182818Z
UID:2944-1721326500-1721330100@zolamap.fr
SUMMARY:Miel
DESCRIPTION:Miel
URL:https://zolamap.fr/index.php/event/miel-4/
LOCATION:Zolamap\, Ecole Emile Zola\, Villeurbanne
END:VEVENT
BEGIN:VEVENT
DTSTART;TZID=Europe/Paris:20240718T181500
DTEND;TZID=Europe/Paris:20240718T191500
DTSTAMP:20260422T032716
CREATED:20240326T210412Z
LAST-MODIFIED:20240326T210412Z
UID:3025-1721326500-1721330100@zolamap.fr
SUMMARY:Pain
DESCRIPTION:
URL:https://zolamap.fr/index.php/event/pain-14/
LOCATION:Zolamap\, Ecole Emile Zola\, Villeurbanne
END:VEVENT
BEGIN:VEVENT
DTSTART;TZID=Europe/Paris:20240718T181500
DTEND;TZID=Europe/Paris:20240718T191500
DTSTAMP:20260422T032716
CREATED:20240326T211514Z
LAST-MODIFIED:20240326T211514Z
UID:3060-1721326500-1721330100@zolamap.fr
SUMMARY:Vins
DESCRIPTION:
URL:https://zolamap.fr/index.php/event/vins-11/
LOCATION:Zolamap\, Ecole Emile Zola\, Villeurbanne
END:VEVENT
BEGIN:VEVENT
DTSTART;VALUE=DATE:20240725
DTEND;VALUE=DATE:20240726
DTSTAMP:20260422T032716
CREATED:20240326T203054Z
LAST-MODIFIED:20240326T203054Z
UID:3002-1721865600-1721951999@zolamap.fr
SUMMARY:Fromages de chèvre
DESCRIPTION:
URL:https://zolamap.fr/index.php/event/fromages-de-chevre-9/
LOCATION:Zolamap\, Ecole Emile Zola\, Villeurbanne
END:VEVENT
BEGIN:VEVENT
DTSTART;TZID=Europe/Paris:20240725T181500
DTEND;TZID=Europe/Paris:20240725T191500
DTSTAMP:20260422T032716
CREATED:20240326T183040Z
LAST-MODIFIED:20240326T183040Z
UID:2946-1721931300-1721934900@zolamap.fr
SUMMARY:Légumes et fruits
DESCRIPTION:
URL:https://zolamap.fr/index.php/event/legumes-et-fruits-9/
LOCATION:Zolamap\, Ecole Emile Zola\, Villeurbanne
END:VEVENT
BEGIN:VEVENT
DTSTART;TZID=Europe/Paris:20240725T181500
DTEND;TZID=Europe/Paris:20240725T191500
DTSTAMP:20260422T032716
CREATED:20240326T211514Z
LAST-MODIFIED:20240326T211514Z
UID:3061-1721931300-1721934900@zolamap.fr
SUMMARY:Vins
DESCRIPTION:
URL:https://zolamap.fr/index.php/event/vins-12/
LOCATION:Zolamap\, Ecole Emile Zola\, Villeurbanne
END:VEVENT
END:VCALENDAR