BEGIN:VCALENDAR
VERSION:2.0
PRODID:-// - ECPv6.15.20//NONSGML v1.0//EN
CALSCALE:GREGORIAN
METHOD:PUBLISH
X-ORIGINAL-URL:https://zolamap.fr
X-WR-CALDESC:Évènements pour 
REFRESH-INTERVAL;VALUE=DURATION:PT1H
X-Robots-Tag:noindex
X-PUBLISHED-TTL:PT1H
BEGIN:VTIMEZONE
TZID:Europe/Paris
BEGIN:DAYLIGHT
TZOFFSETFROM:+0100
TZOFFSETTO:+0200
TZNAME:CEST
DTSTART:20230326T010000
END:DAYLIGHT
BEGIN:STANDARD
TZOFFSETFROM:+0200
TZOFFSETTO:+0100
TZNAME:CET
DTSTART:20231029T010000
END:STANDARD
BEGIN:DAYLIGHT
TZOFFSETFROM:+0100
TZOFFSETTO:+0200
TZNAME:CEST
DTSTART:20240331T010000
END:DAYLIGHT
BEGIN:STANDARD
TZOFFSETFROM:+0200
TZOFFSETTO:+0100
TZNAME:CET
DTSTART:20241027T010000
END:STANDARD
BEGIN:DAYLIGHT
TZOFFSETFROM:+0100
TZOFFSETTO:+0200
TZNAME:CEST
DTSTART:20250330T010000
END:DAYLIGHT
BEGIN:STANDARD
TZOFFSETFROM:+0200
TZOFFSETTO:+0100
TZNAME:CET
DTSTART:20251026T010000
END:STANDARD
END:VTIMEZONE
BEGIN:VEVENT
DTSTART;VALUE=DATE:20240606
DTEND;VALUE=DATE:20240607
DTSTAMP:20260422T050457
CREATED:20240326T205014Z
LAST-MODIFIED:20240326T205014Z
UID:3012-1717632000-1717718399@zolamap.fr
SUMMARY:Pain
DESCRIPTION:
URL:https://zolamap.fr/index.php/event/pain-5/
LOCATION:Zolamap\, Ecole Emile Zola\, Villeurbanne
END:VEVENT
BEGIN:VEVENT
DTSTART;TZID=Europe/Paris:20240606T181500
DTEND;TZID=Europe/Paris:20240606T191500
DTSTAMP:20260422T050457
CREATED:20240326T182059Z
LAST-MODIFIED:20240326T182059Z
UID:2928-1717697700-1717701300@zolamap.fr
SUMMARY:Légumes et fruits
DESCRIPTION:Légumes et fruits
URL:https://zolamap.fr/index.php/event/legumes-et-fruits-2/
LOCATION:Zolamap\, Ecole Emile Zola\, Villeurbanne
END:VEVENT
BEGIN:VEVENT
DTSTART;TZID=Europe/Paris:20240606T181500
DTEND;TZID=Europe/Paris:20240606T191500
DTSTAMP:20260422T050457
CREATED:20240326T211457Z
LAST-MODIFIED:20240326T211457Z
UID:3054-1717697700-1717701300@zolamap.fr
SUMMARY:Vins
DESCRIPTION:
URL:https://zolamap.fr/index.php/event/vins-5/
LOCATION:Zolamap\, Ecole Emile Zola\, Villeurbanne
END:VEVENT
BEGIN:VEVENT
DTSTART;VALUE=DATE:20240613
DTEND;VALUE=DATE:20240614
DTSTAMP:20260422T050457
CREATED:20240326T202253Z
LAST-MODIFIED:20240326T202253Z
UID:2994-1718236800-1718323199@zolamap.fr
SUMMARY:Fromages de chèvre
DESCRIPTION:
URL:https://zolamap.fr/index.php/event/fromages-de-chevre-6/
LOCATION:Zolamap\, Ecole Emile Zola\, Villeurbanne
END:VEVENT
BEGIN:VEVENT
DTSTART;VALUE=DATE:20240613
DTEND;VALUE=DATE:20240614
DTSTAMP:20260422T050458
CREATED:20240326T205043Z
LAST-MODIFIED:20240326T205043Z
UID:3014-1718236800-1718323199@zolamap.fr
SUMMARY:Pain
DESCRIPTION:
URL:https://zolamap.fr/index.php/event/pain-6/
LOCATION:Zolamap\, Ecole Emile Zola\, Villeurbanne
END:VEVENT
BEGIN:VEVENT
DTSTART;TZID=Europe/Paris:20240613T181500
DTEND;TZID=Europe/Paris:20240613T191500
DTSTAMP:20260422T050458
CREATED:20240326T182150Z
LAST-MODIFIED:20240326T182150Z
UID:2930-1718302500-1718306100@zolamap.fr
SUMMARY:Légumes et fruits
DESCRIPTION:Légumes et fruits
URL:https://zolamap.fr/index.php/event/legumes-et-fruits-3/
LOCATION:Zolamap\, Ecole Emile Zola\, Villeurbanne
END:VEVENT
BEGIN:VEVENT
DTSTART;TZID=Europe/Paris:20240613T181500
DTEND;TZID=Europe/Paris:20240613T191500
DTSTAMP:20260422T050458
CREATED:20240326T210412Z
LAST-MODIFIED:20240326T210412Z
UID:3020-1718302500-1718306100@zolamap.fr
SUMMARY:Pain
DESCRIPTION:
URL:https://zolamap.fr/index.php/event/pain-20/
LOCATION:Zolamap\, Ecole Emile Zola\, Villeurbanne
END:VEVENT
BEGIN:VEVENT
DTSTART;TZID=Europe/Paris:20240613T181500
DTEND;TZID=Europe/Paris:20240613T191500
DTSTAMP:20260422T050458
CREATED:20240326T211458Z
LAST-MODIFIED:20240326T211458Z
UID:3055-1718302500-1718306100@zolamap.fr
SUMMARY:Vins
DESCRIPTION:
URL:https://zolamap.fr/index.php/event/vins-6/
LOCATION:Zolamap\, Ecole Emile Zola\, Villeurbanne
END:VEVENT
BEGIN:VEVENT
DTSTART;TZID=Europe/Paris:20240613T181500
DTEND;TZID=Europe/Paris:20240613T191500
DTSTAMP:20260422T050458
CREATED:20240518T114605Z
LAST-MODIFIED:20240518T215307Z
UID:3123-1718302500-1718306100@zolamap.fr
SUMMARY:Poulets\, œufs\, plats cuisinés
DESCRIPTION:
URL:https://zolamap.fr/index.php/event/panier-de-poulets-moyens-et-gros-oeufs-plats-cuisines/
LOCATION:Zolamap\, Ecole Emile Zola\, Villeurbanne
END:VEVENT
BEGIN:VEVENT
DTSTART;TZID=Europe/Paris:20240620T181500
DTEND;TZID=Europe/Paris:20240620T191500
DTSTAMP:20260422T050458
CREATED:20240326T182248Z
LAST-MODIFIED:20240326T182248Z
UID:2932-1718907300-1718910900@zolamap.fr
SUMMARY:Légumes et fruits
DESCRIPTION:Légumes et fruits
URL:https://zolamap.fr/index.php/event/legumes-et-fruits-4/
LOCATION:Zolamap\, Ecole Emile Zola\, Villeurbanne
END:VEVENT
BEGIN:VEVENT
DTSTART;TZID=Europe/Paris:20240620T181500
DTEND;TZID=Europe/Paris:20240620T191500
DTSTAMP:20260422T050458
CREATED:20240326T182348Z
LAST-MODIFIED:20240326T182348Z
UID:2934-1718907300-1718910900@zolamap.fr
SUMMARY:Miel
DESCRIPTION:Miel
URL:https://zolamap.fr/index.php/event/miel-3/
LOCATION:Zolamap\, Ecole Emile Zola\, Villeurbanne
END:VEVENT
BEGIN:VEVENT
DTSTART;TZID=Europe/Paris:20240620T181500
DTEND;TZID=Europe/Paris:20240620T191500
DTSTAMP:20260422T050458
CREATED:20240326T210412Z
LAST-MODIFIED:20240326T210412Z
UID:3021-1718907300-1718910900@zolamap.fr
SUMMARY:Pain
DESCRIPTION:
URL:https://zolamap.fr/index.php/event/pain-19/
LOCATION:Zolamap\, Ecole Emile Zola\, Villeurbanne
END:VEVENT
BEGIN:VEVENT
DTSTART;TZID=Europe/Paris:20240620T181500
DTEND;TZID=Europe/Paris:20240620T191500
DTSTAMP:20260422T050458
CREATED:20240326T211459Z
LAST-MODIFIED:20240326T211459Z
UID:3056-1718907300-1718910900@zolamap.fr
SUMMARY:Vins
DESCRIPTION:
URL:https://zolamap.fr/index.php/event/vins-7/
LOCATION:Zolamap\, Ecole Emile Zola\, Villeurbanne
END:VEVENT
BEGIN:VEVENT
DTSTART;TZID=Europe/Paris:20240620T181500
DTEND;TZID=Europe/Paris:20240620T191500
DTSTAMP:20260422T050458
CREATED:20240508T075031Z
LAST-MODIFIED:20240518T120303Z
UID:3105-1718907300-1718910900@zolamap.fr
SUMMARY:Pâtes et Farines
DESCRIPTION:
URL:https://zolamap.fr/index.php/event/pates-et-farines/
LOCATION:Zolamap\, Ecole Emile Zola\, Villeurbanne
END:VEVENT
BEGIN:VEVENT
DTSTART;VALUE=DATE:20240627
DTEND;VALUE=DATE:20240628
DTSTAMP:20260422T050458
CREATED:20240326T202942Z
LAST-MODIFIED:20240326T202942Z
UID:2998-1719446400-1719532799@zolamap.fr
SUMMARY:Fromages de chèvre
DESCRIPTION:
URL:https://zolamap.fr/index.php/event/fromages-de-chevre-7/
LOCATION:Zolamap\, Ecole Emile Zola\, Villeurbanne
END:VEVENT
BEGIN:VEVENT
DTSTART;TZID=Europe/Paris:20240627T181500
DTEND;TZID=Europe/Paris:20240627T191500
DTSTAMP:20260422T050458
CREATED:20240326T182435Z
LAST-MODIFIED:20240326T182435Z
UID:2936-1719512100-1719515700@zolamap.fr
SUMMARY:Légumes et fruits
DESCRIPTION:Légumes et fruits
URL:https://zolamap.fr/index.php/event/legumes-et-fruits-5/
LOCATION:Zolamap\, Ecole Emile Zola\, Villeurbanne
END:VEVENT
BEGIN:VEVENT
DTSTART;TZID=Europe/Paris:20240627T181500
DTEND;TZID=Europe/Paris:20240627T191500
DTSTAMP:20260422T050458
CREATED:20240326T210412Z
LAST-MODIFIED:20240326T210412Z
UID:3022-1719512100-1719515700@zolamap.fr
SUMMARY:Pain
DESCRIPTION:
URL:https://zolamap.fr/index.php/event/pain-18/
LOCATION:Zolamap\, Ecole Emile Zola\, Villeurbanne
END:VEVENT
BEGIN:VEVENT
DTSTART;TZID=Europe/Paris:20240627T181500
DTEND;TZID=Europe/Paris:20240627T191500
DTSTAMP:20260422T050458
CREATED:20240326T211459Z
LAST-MODIFIED:20240326T211459Z
UID:3057-1719512100-1719515700@zolamap.fr
SUMMARY:Vins
DESCRIPTION:
URL:https://zolamap.fr/index.php/event/vins-8/
LOCATION:Zolamap\, Ecole Emile Zola\, Villeurbanne
END:VEVENT
END:VCALENDAR