BEGIN:VCALENDAR
VERSION:2.0
PRODID:-// - ECPv6.15.20//NONSGML v1.0//EN
CALSCALE:GREGORIAN
METHOD:PUBLISH
X-ORIGINAL-URL:https://zolamap.fr
X-WR-CALDESC:Évènements pour 
REFRESH-INTERVAL;VALUE=DURATION:PT1H
X-Robots-Tag:noindex
X-PUBLISHED-TTL:PT1H
BEGIN:VTIMEZONE
TZID:Europe/Paris
BEGIN:DAYLIGHT
TZOFFSETFROM:+0100
TZOFFSETTO:+0200
TZNAME:CEST
DTSTART:20230326T010000
END:DAYLIGHT
BEGIN:STANDARD
TZOFFSETFROM:+0200
TZOFFSETTO:+0100
TZNAME:CET
DTSTART:20231029T010000
END:STANDARD
BEGIN:DAYLIGHT
TZOFFSETFROM:+0100
TZOFFSETTO:+0200
TZNAME:CEST
DTSTART:20240331T010000
END:DAYLIGHT
BEGIN:STANDARD
TZOFFSETFROM:+0200
TZOFFSETTO:+0100
TZNAME:CET
DTSTART:20241027T010000
END:STANDARD
BEGIN:DAYLIGHT
TZOFFSETFROM:+0100
TZOFFSETTO:+0200
TZNAME:CEST
DTSTART:20250330T010000
END:DAYLIGHT
BEGIN:STANDARD
TZOFFSETFROM:+0200
TZOFFSETTO:+0100
TZNAME:CET
DTSTART:20251026T010000
END:STANDARD
END:VTIMEZONE
BEGIN:VEVENT
DTSTART;VALUE=DATE:20240404
DTEND;VALUE=DATE:20240405
DTSTAMP:20260422T085445
CREATED:20231011T170457Z
LAST-MODIFIED:20231011T170457Z
UID:2717-1712188800-1712275199@zolamap.fr
SUMMARY:Pain-Vin (pas de Légumes)
DESCRIPTION:
URL:https://zolamap.fr/index.php/event/pain-vin-pas-de-legumes-3/
END:VEVENT
BEGIN:VEVENT
DTSTART;TZID=Europe/Paris:20240404T181500
DTEND;TZID=Europe/Paris:20240404T191500
DTSTAMP:20260422T085445
CREATED:20240326T193819Z
LAST-MODIFIED:20240326T193819Z
UID:2984-1712254500-1712258100@zolamap.fr
SUMMARY:Fromages de chèvre
DESCRIPTION:
URL:https://zolamap.fr/index.php/event/fromages-de-chevre/
LOCATION:Zolamap\, Ecole Emile Zola\, Villeurbanne
END:VEVENT
BEGIN:VEVENT
DTSTART;VALUE=DATE:20240411
DTEND;VALUE=DATE:20240412
DTSTAMP:20260422T085445
CREATED:20231011T170519Z
LAST-MODIFIED:20231011T170519Z
UID:2719-1712793600-1712879999@zolamap.fr
SUMMARY:Pain-Vin (pas de Légumes)
DESCRIPTION:
URL:https://zolamap.fr/index.php/event/pain-vin-pas-de-legumes-4/
END:VEVENT
BEGIN:VEVENT
DTSTART;VALUE=DATE:20240411
DTEND;VALUE=DATE:20240412
DTSTAMP:20260422T085445
CREATED:20231015T182828Z
LAST-MODIFIED:20231015T182828Z
UID:2741-1712793600-1712879999@zolamap.fr
SUMMARY:Porc et charcuterie
DESCRIPTION:
URL:https://zolamap.fr/index.php/event/porc-et-charcuterie-5/
END:VEVENT
BEGIN:VEVENT
DTSTART;VALUE=DATE:20240411
DTEND;VALUE=DATE:20240412
DTSTAMP:20260422T085445
CREATED:20231029T171555Z
LAST-MODIFIED:20231029T171555Z
UID:2774-1712793600-1712879999@zolamap.fr
SUMMARY:Poulet et œufs
DESCRIPTION:
URL:https://zolamap.fr/index.php/event/poulet-et-oeufs-6/
END:VEVENT
BEGIN:VEVENT
DTSTART;VALUE=DATE:20240418
DTEND;VALUE=DATE:20240419
DTSTAMP:20260422T085445
CREATED:20231011T170551Z
LAST-MODIFIED:20231011T170551Z
UID:2721-1713398400-1713484799@zolamap.fr
SUMMARY:Pain-Vin (pas de Légumes)
DESCRIPTION:
URL:https://zolamap.fr/index.php/event/pain-vin-pas-de-legumes-5/
END:VEVENT
BEGIN:VEVENT
DTSTART;VALUE=DATE:20240418
DTEND;VALUE=DATE:20240419
DTSTAMP:20260422T085445
CREATED:20240326T201757Z
LAST-MODIFIED:20240326T201757Z
UID:2986-1713398400-1713484799@zolamap.fr
SUMMARY:Fromages de chèvre
DESCRIPTION:
URL:https://zolamap.fr/index.php/event/fromages-de-chevre-2/
LOCATION:Zolamap\, Ecole Emile Zola\, Villeurbanne
END:VEVENT
BEGIN:VEVENT
DTSTART;VALUE=DATE:20240425
DTEND;VALUE=DATE:20240426
DTSTAMP:20260422T085445
CREATED:20231011T170624Z
LAST-MODIFIED:20231011T170624Z
UID:2723-1714003200-1714089599@zolamap.fr
SUMMARY:Zolamap est fermée !
DESCRIPTION:
URL:https://zolamap.fr/index.php/event/zolamap-est-fermee-2/
END:VEVENT
END:VCALENDAR