BEGIN:VCALENDAR
VERSION:2.0
PRODID:-// - ECPv6.15.20//NONSGML v1.0//EN
CALSCALE:GREGORIAN
METHOD:PUBLISH
X-ORIGINAL-URL:https://zolamap.fr
X-WR-CALDESC:Évènements pour 
REFRESH-INTERVAL;VALUE=DURATION:PT1H
X-Robots-Tag:noindex
X-PUBLISHED-TTL:PT1H
BEGIN:VTIMEZONE
TZID:Europe/Paris
BEGIN:DAYLIGHT
TZOFFSETFROM:+0100
TZOFFSETTO:+0200
TZNAME:CEST
DTSTART:20230326T010000
END:DAYLIGHT
BEGIN:STANDARD
TZOFFSETFROM:+0200
TZOFFSETTO:+0100
TZNAME:CET
DTSTART:20231029T010000
END:STANDARD
BEGIN:DAYLIGHT
TZOFFSETFROM:+0100
TZOFFSETTO:+0200
TZNAME:CEST
DTSTART:20240331T010000
END:DAYLIGHT
BEGIN:STANDARD
TZOFFSETFROM:+0200
TZOFFSETTO:+0100
TZNAME:CET
DTSTART:20241027T010000
END:STANDARD
BEGIN:DAYLIGHT
TZOFFSETFROM:+0100
TZOFFSETTO:+0200
TZNAME:CEST
DTSTART:20250330T010000
END:DAYLIGHT
BEGIN:STANDARD
TZOFFSETFROM:+0200
TZOFFSETTO:+0100
TZNAME:CET
DTSTART:20251026T010000
END:STANDARD
END:VTIMEZONE
BEGIN:VEVENT
DTSTART;VALUE=DATE:20240201
DTEND;VALUE=DATE:20240202
DTSTAMP:20260424T115954
CREATED:20231011T170117Z
LAST-MODIFIED:20231011T170117Z
UID:2710-1706745600-1706831999@zolamap.fr
SUMMARY:Pain-Vin-Légumes
DESCRIPTION:
URL:https://zolamap.fr/index.php/event/pain-vin-legumes-29/
END:VEVENT
BEGIN:VEVENT
DTSTART;VALUE=DATE:20240208
DTEND;VALUE=DATE:20240209
DTSTAMP:20260424T115954
CREATED:20231011T164935Z
LAST-MODIFIED:20231011T164935Z
UID:2689-1707350400-1707436799@zolamap.fr
SUMMARY:Pain-Vin-Légumes
DESCRIPTION:
URL:https://zolamap.fr/index.php/event/pain-vin-legumes-34/
END:VEVENT
BEGIN:VEVENT
DTSTART;VALUE=DATE:20240215
DTEND;VALUE=DATE:20240216
DTSTAMP:20260424T115954
CREATED:20231011T164956Z
LAST-MODIFIED:20231011T164956Z
UID:2691-1707955200-1708041599@zolamap.fr
SUMMARY:Pain-Vin-Légumes
DESCRIPTION:
URL:https://zolamap.fr/index.php/event/pain-vin-legumes-35/
END:VEVENT
BEGIN:VEVENT
DTSTART;VALUE=DATE:20240215
DTEND;VALUE=DATE:20240216
DTSTAMP:20260424T115954
CREATED:20231015T182748Z
LAST-MODIFIED:20231015T182748Z
UID:2737-1707955200-1708041599@zolamap.fr
SUMMARY:Porc et charcuterie
DESCRIPTION:
URL:https://zolamap.fr/index.php/event/porc-et-charcuterie-3/
END:VEVENT
BEGIN:VEVENT
DTSTART;VALUE=DATE:20240215
DTEND;VALUE=DATE:20240216
DTSTAMP:20260424T115954
CREATED:20231029T171034Z
LAST-MODIFIED:20231029T171034Z
UID:2759-1707955200-1708041599@zolamap.fr
SUMMARY:Miel et plantes
DESCRIPTION:
URL:https://zolamap.fr/index.php/event/miel-et-plantes-5/
END:VEVENT
BEGIN:VEVENT
DTSTART;VALUE=DATE:20240215
DTEND;VALUE=DATE:20240216
DTSTAMP:20260424T115954
CREATED:20231029T171504Z
LAST-MODIFIED:20231029T171504Z
UID:2769-1707955200-1708041599@zolamap.fr
SUMMARY:Poulet et œufs
DESCRIPTION:
URL:https://zolamap.fr/index.php/event/poulet-et-oeufs-4/
END:VEVENT
BEGIN:VEVENT
DTSTART;VALUE=DATE:20240222
DTEND;VALUE=DATE:20240223
DTSTAMP:20260424T115954
CREATED:20231011T165022Z
LAST-MODIFIED:20231011T165022Z
UID:2693-1708560000-1708646399@zolamap.fr
SUMMARY:Pain-Vin-Légumes
DESCRIPTION:
URL:https://zolamap.fr/index.php/event/pain-vin-legumes-36/
END:VEVENT
BEGIN:VEVENT
DTSTART;VALUE=DATE:20240222
DTEND;VALUE=DATE:20240223
DTSTAMP:20260424T115954
CREATED:20240117T082147Z
LAST-MODIFIED:20240117T082147Z
UID:2839-1708560000-1708646399@zolamap.fr
SUMMARY:Flash lentilles
DESCRIPTION:
URL:https://zolamap.fr/index.php/event/flash-lentilles/
END:VEVENT
BEGIN:VEVENT
DTSTART;VALUE=DATE:20240229
DTEND;VALUE=DATE:20240301
DTSTAMP:20260424T115954
CREATED:20231011T165106Z
LAST-MODIFIED:20231011T165106Z
UID:2695-1709164800-1709251199@zolamap.fr
SUMMARY:ZOLAMAP est fermée !
DESCRIPTION:
URL:https://zolamap.fr/index.php/event/zolamap-est-fermee/
END:VEVENT
END:VCALENDAR