BEGIN:VCALENDAR
VERSION:2.0
PRODID:-// - ECPv6.15.20//NONSGML v1.0//EN
CALSCALE:GREGORIAN
METHOD:PUBLISH
X-ORIGINAL-URL:https://zolamap.fr
X-WR-CALDESC:Évènements pour 
REFRESH-INTERVAL;VALUE=DURATION:PT1H
X-Robots-Tag:noindex
X-PUBLISHED-TTL:PT1H
BEGIN:VTIMEZONE
TZID:Europe/Paris
BEGIN:DAYLIGHT
TZOFFSETFROM:+0100
TZOFFSETTO:+0200
TZNAME:CEST
DTSTART:20220327T010000
END:DAYLIGHT
BEGIN:STANDARD
TZOFFSETFROM:+0200
TZOFFSETTO:+0100
TZNAME:CET
DTSTART:20221030T010000
END:STANDARD
BEGIN:DAYLIGHT
TZOFFSETFROM:+0100
TZOFFSETTO:+0200
TZNAME:CEST
DTSTART:20230326T010000
END:DAYLIGHT
BEGIN:STANDARD
TZOFFSETFROM:+0200
TZOFFSETTO:+0100
TZNAME:CET
DTSTART:20231029T010000
END:STANDARD
BEGIN:DAYLIGHT
TZOFFSETFROM:+0100
TZOFFSETTO:+0200
TZNAME:CEST
DTSTART:20240331T010000
END:DAYLIGHT
BEGIN:STANDARD
TZOFFSETFROM:+0200
TZOFFSETTO:+0100
TZNAME:CET
DTSTART:20241027T010000
END:STANDARD
END:VTIMEZONE
BEGIN:VEVENT
DTSTART;VALUE=DATE:20230601
DTEND;VALUE=DATE:20230602
DTSTAMP:20260424T234315
CREATED:20230305T170506Z
LAST-MODIFIED:20230305T170506Z
UID:2488-1685577600-1685663999@zolamap.fr
SUMMARY:Fromage de chèvre
DESCRIPTION:
URL:https://zolamap.fr/index.php/event/fromage-de-chevre-4/
END:VEVENT
BEGIN:VEVENT
DTSTART;VALUE=DATE:20230601
DTEND;VALUE=DATE:20230602
DTSTAMP:20260424T234315
CREATED:20230321T153831Z
LAST-MODIFIED:20230321T153831Z
UID:2521-1685577600-1685663999@zolamap.fr
SUMMARY:charcuterie
DESCRIPTION:
URL:https://zolamap.fr/index.php/event/charcuterie-8/
END:VEVENT
BEGIN:VEVENT
DTSTART;VALUE=DATE:20230601
DTEND;VALUE=DATE:20230602
DTSTAMP:20260424T234315
CREATED:20230321T162003Z
LAST-MODIFIED:20230321T162003Z
UID:2550-1685577600-1685663999@zolamap.fr
SUMMARY:Pain/Vin/Légumes
DESCRIPTION:
URL:https://zolamap.fr/index.php/event/pain-vin-legumes/
END:VEVENT
BEGIN:VEVENT
DTSTART;VALUE=DATE:20230608
DTEND;VALUE=DATE:20230609
DTSTAMP:20260424T234315
CREATED:20230321T154140Z
LAST-MODIFIED:20230321T154140Z
UID:2535-1686182400-1686268799@zolamap.fr
SUMMARY:poulet
DESCRIPTION:
URL:https://zolamap.fr/index.php/event/poulet-2/
END:VEVENT
BEGIN:VEVENT
DTSTART;VALUE=DATE:20230608
DTEND;VALUE=DATE:20230609
DTSTAMP:20260424T234315
CREATED:20230321T162019Z
LAST-MODIFIED:20230321T162019Z
UID:2552-1686182400-1686268799@zolamap.fr
SUMMARY:Pain/Vin/Légumes
DESCRIPTION:
URL:https://zolamap.fr/index.php/event/pain-vin-legumes-2/
END:VEVENT
BEGIN:VEVENT
DTSTART;VALUE=DATE:20230608
DTEND;VALUE=DATE:20230609
DTSTAMP:20260424T234315
CREATED:20230328T095557Z
LAST-MODIFIED:20230328T095557Z
UID:2607-1686182400-1686268799@zolamap.fr
SUMMARY:Supplément fruits
DESCRIPTION:
URL:https://zolamap.fr/index.php/event/supplement-fruits/
END:VEVENT
BEGIN:VEVENT
DTSTART;VALUE=DATE:20230615
DTEND;VALUE=DATE:20230616
DTSTAMP:20260424T234315
CREATED:20230305T170529Z
LAST-MODIFIED:20230305T170529Z
UID:2490-1686787200-1686873599@zolamap.fr
SUMMARY:Fromage de chèvre
DESCRIPTION:
URL:https://zolamap.fr/index.php/event/fromage-de-chevre-5/
END:VEVENT
BEGIN:VEVENT
DTSTART;VALUE=DATE:20230615
DTEND;VALUE=DATE:20230616
DTSTAMP:20260424T234315
CREATED:20230321T162036Z
LAST-MODIFIED:20230321T162036Z
UID:2554-1686787200-1686873599@zolamap.fr
SUMMARY:Pain/Vin/Légumes
DESCRIPTION:
URL:https://zolamap.fr/index.php/event/pain-vin-legumes-3/
END:VEVENT
BEGIN:VEVENT
DTSTART;VALUE=DATE:20230615
DTEND;VALUE=DATE:20230616
DTSTAMP:20260424T234315
CREATED:20230328T095625Z
LAST-MODIFIED:20230328T095625Z
UID:2609-1686787200-1686873599@zolamap.fr
SUMMARY:Supplément fruits
DESCRIPTION:
URL:https://zolamap.fr/index.php/event/supplement-fruits-2/
END:VEVENT
BEGIN:VEVENT
DTSTART;VALUE=DATE:20230622
DTEND;VALUE=DATE:20230623
DTSTAMP:20260424T234315
CREATED:20230321T162053Z
LAST-MODIFIED:20230321T162053Z
UID:2556-1687392000-1687478399@zolamap.fr
SUMMARY:Pain/Vin/Légumes
DESCRIPTION:
URL:https://zolamap.fr/index.php/event/pain-vin-legumes-4/
END:VEVENT
BEGIN:VEVENT
DTSTART;VALUE=DATE:20230622
DTEND;VALUE=DATE:20230623
DTSTAMP:20260424T234315
CREATED:20230328T095650Z
LAST-MODIFIED:20230328T100510Z
UID:2611-1687392000-1687478399@zolamap.fr
SUMMARY:Supplément fruits
DESCRIPTION:
URL:https://zolamap.fr/index.php/event/supplement-fruits-3/
END:VEVENT
BEGIN:VEVENT
DTSTART;VALUE=DATE:20230629
DTEND;VALUE=DATE:20230630
DTSTAMP:20260424T234315
CREATED:20230305T170557Z
LAST-MODIFIED:20230305T170557Z
UID:2492-1687996800-1688083199@zolamap.fr
SUMMARY:Fromage de chèvre
DESCRIPTION:
URL:https://zolamap.fr/index.php/event/fromage-de-chevre-6/
END:VEVENT
BEGIN:VEVENT
DTSTART;VALUE=DATE:20230629
DTEND;VALUE=DATE:20230630
DTSTAMP:20260424T234315
CREATED:20230321T153853Z
LAST-MODIFIED:20230321T153853Z
UID:2523-1687996800-1688083199@zolamap.fr
SUMMARY:charcuterie
DESCRIPTION:
URL:https://zolamap.fr/index.php/event/charcuterie-9/
END:VEVENT
BEGIN:VEVENT
DTSTART;VALUE=DATE:20230629
DTEND;VALUE=DATE:20230630
DTSTAMP:20260424T234315
CREATED:20230321T162108Z
LAST-MODIFIED:20230321T162108Z
UID:2558-1687996800-1688083199@zolamap.fr
SUMMARY:Pain/Vin/Légumes
DESCRIPTION:
URL:https://zolamap.fr/index.php/event/pain-vin-legumes-5/
END:VEVENT
BEGIN:VEVENT
DTSTART;VALUE=DATE:20230629
DTEND;VALUE=DATE:20230630
DTSTAMP:20260424T234315
CREATED:20230328T095712Z
LAST-MODIFIED:20230328T100615Z
UID:2614-1687996800-1688083199@zolamap.fr
SUMMARY:Supplément fruits
DESCRIPTION:
URL:https://zolamap.fr/index.php/event/supplement-fruits-4/
END:VEVENT
END:VCALENDAR