BEGIN:VCALENDAR
VERSION:2.0
PRODID:-// - ECPv6.15.20//NONSGML v1.0//EN
CALSCALE:GREGORIAN
METHOD:PUBLISH
X-ORIGINAL-URL:https://zolamap.fr
X-WR-CALDESC:Évènements pour 
REFRESH-INTERVAL;VALUE=DURATION:PT1H
X-Robots-Tag:noindex
X-PUBLISHED-TTL:PT1H
BEGIN:VTIMEZONE
TZID:Europe/Paris
BEGIN:DAYLIGHT
TZOFFSETFROM:+0100
TZOFFSETTO:+0200
TZNAME:CEST
DTSTART:20220327T010000
END:DAYLIGHT
BEGIN:STANDARD
TZOFFSETFROM:+0200
TZOFFSETTO:+0100
TZNAME:CET
DTSTART:20221030T010000
END:STANDARD
BEGIN:DAYLIGHT
TZOFFSETFROM:+0100
TZOFFSETTO:+0200
TZNAME:CEST
DTSTART:20230326T010000
END:DAYLIGHT
BEGIN:STANDARD
TZOFFSETFROM:+0200
TZOFFSETTO:+0100
TZNAME:CET
DTSTART:20231029T010000
END:STANDARD
BEGIN:DAYLIGHT
TZOFFSETFROM:+0100
TZOFFSETTO:+0200
TZNAME:CEST
DTSTART:20240331T010000
END:DAYLIGHT
BEGIN:STANDARD
TZOFFSETFROM:+0200
TZOFFSETTO:+0100
TZNAME:CET
DTSTART:20241027T010000
END:STANDARD
END:VTIMEZONE
BEGIN:VEVENT
DTSTART;VALUE=DATE:20230202
DTEND;VALUE=DATE:20230203
DTSTAMP:20260425T060452
CREATED:20221013T084231Z
LAST-MODIFIED:20221023T101010Z
UID:2282-1675296000-1675382399@zolamap.fr
SUMMARY:Miels & Plantes
DESCRIPTION:
URL:https://zolamap.fr/index.php/event/miels-plantes-3/
LOCATION:Zolamap\, Ecole Emile Zola\, Villeurbanne
END:VEVENT
BEGIN:VEVENT
DTSTART;VALUE=DATE:20230202
DTEND;VALUE=DATE:20230203
DTSTAMP:20260425T060452
CREATED:20221014T155949Z
LAST-MODIFIED:20221014T155949Z
UID:2317-1675296000-1675382399@zolamap.fr
SUMMARY:Charcuterie
DESCRIPTION:
URL:https://zolamap.fr/index.php/event/charcuterie-4/
END:VEVENT
BEGIN:VEVENT
DTSTART;VALUE=DATE:20230202
DTEND;VALUE=DATE:20230203
DTSTAMP:20260425T060452
CREATED:20221022T110407Z
LAST-MODIFIED:20221022T110407Z
UID:2367-1675296000-1675382399@zolamap.fr
SUMMARY:Légumes\, pains et vins
DESCRIPTION:
URL:https://zolamap.fr/index.php/event/legumes-pains-et-vins-12/
END:VEVENT
BEGIN:VEVENT
DTSTART;VALUE=DATE:20230202
DTEND;VALUE=DATE:20230203
DTSTAMP:20260425T060452
CREATED:20221027T100311Z
LAST-MODIFIED:20221027T100334Z
UID:2421-1675296000-1675382399@zolamap.fr
SUMMARY:Pot : apportez votre verre ! ( et pourquoi pas des crêpes ?)
DESCRIPTION:
URL:https://zolamap.fr/index.php/event/pot-apportez-votre-verre-2/
END:VEVENT
BEGIN:VEVENT
DTSTART;VALUE=DATE:20230209
DTEND;VALUE=DATE:20230210
DTSTAMP:20260425T060452
CREATED:20221022T110441Z
LAST-MODIFIED:20221022T110441Z
UID:2369-1675900800-1675987199@zolamap.fr
SUMMARY:Légumes\, pains et vins
DESCRIPTION:
URL:https://zolamap.fr/index.php/event/legumes-pains-et-vins-13/
END:VEVENT
BEGIN:VEVENT
DTSTART;VALUE=DATE:20230223
DTEND;VALUE=DATE:20230224
DTSTAMP:20260425T060452
CREATED:20221022T110509Z
LAST-MODIFIED:20221022T110509Z
UID:2371-1677110400-1677196799@zolamap.fr
SUMMARY:Légumes\, pains et vins
DESCRIPTION:
URL:https://zolamap.fr/index.php/event/legumes-pains-et-vins-14/
END:VEVENT
BEGIN:VEVENT
DTSTART;VALUE=DATE:20230223
DTEND;VALUE=DATE:20230224
DTSTAMP:20260425T060452
CREATED:20230211T194846Z
LAST-MODIFIED:20230211T195242Z
UID:2465-1677110400-1677196799@zolamap.fr
SUMMARY:Poulets/oeufs/flash poules réformées
DESCRIPTION:
URL:https://zolamap.fr/index.php/event/poulets-oeufs-flash-poules-reformees/
LOCATION:Zolamap\, Ecole Emile Zola\, Villeurbanne
END:VEVENT
END:VCALENDAR