BEGIN:VCALENDAR
VERSION:2.0
PRODID:-// - ECPv6.15.20//NONSGML v1.0//EN
CALSCALE:GREGORIAN
METHOD:PUBLISH
X-ORIGINAL-URL:https://zolamap.fr
X-WR-CALDESC:Évènements pour 
REFRESH-INTERVAL;VALUE=DURATION:PT1H
X-Robots-Tag:noindex
X-PUBLISHED-TTL:PT1H
BEGIN:VTIMEZONE
TZID:Europe/Paris
BEGIN:DAYLIGHT
TZOFFSETFROM:+0100
TZOFFSETTO:+0200
TZNAME:CEST
DTSTART:20210328T010000
END:DAYLIGHT
BEGIN:STANDARD
TZOFFSETFROM:+0200
TZOFFSETTO:+0100
TZNAME:CET
DTSTART:20211031T010000
END:STANDARD
BEGIN:DAYLIGHT
TZOFFSETFROM:+0100
TZOFFSETTO:+0200
TZNAME:CEST
DTSTART:20220327T010000
END:DAYLIGHT
BEGIN:STANDARD
TZOFFSETFROM:+0200
TZOFFSETTO:+0100
TZNAME:CET
DTSTART:20221030T010000
END:STANDARD
BEGIN:DAYLIGHT
TZOFFSETFROM:+0100
TZOFFSETTO:+0200
TZNAME:CEST
DTSTART:20230326T010000
END:DAYLIGHT
BEGIN:STANDARD
TZOFFSETFROM:+0200
TZOFFSETTO:+0100
TZNAME:CET
DTSTART:20231029T010000
END:STANDARD
END:VTIMEZONE
BEGIN:VEVENT
DTSTART;VALUE=DATE:20220901
DTEND;VALUE=DATE:20220902
DTSTAMP:20260425T132326
CREATED:20220409T101714Z
LAST-MODIFIED:20220422T083033Z
UID:2099-1661990400-1662076799@zolamap.fr
SUMMARY:Légumes-Fruits / Pain-Vin / Volaille / Miel & Plantes
DESCRIPTION:
URL:https://zolamap.fr/index.php/event/miel-plantes-3/
END:VEVENT
BEGIN:VEVENT
DTSTART;TZID=Europe/Paris:20220908T080000
DTEND;TZID=Europe/Paris:20220908T170000
DTSTAMP:20260425T132326
CREATED:20220422T083000Z
LAST-MODIFIED:20220904T085051Z
UID:2186-1662624000-1662656400@zolamap.fr
SUMMARY:Légumes / Pain-Vin / Fromage / Charcuterie reportée au 15/09
DESCRIPTION:
URL:https://zolamap.fr/index.php/event/legumes-pain-vin-fromage-charcuterie-reportee-au-16-09-4/
END:VEVENT
BEGIN:VEVENT
DTSTART;TZID=Europe/Paris:20220915T080000
DTEND;TZID=Europe/Paris:20220915T170000
DTSTAMP:20260425T132326
CREATED:20220422T083055Z
LAST-MODIFIED:20220904T085140Z
UID:2189-1663228800-1663261200@zolamap.fr
SUMMARY:Légumes / Pain-Vin / Charcuterie
DESCRIPTION:
URL:https://zolamap.fr/index.php/event/legumes-fruits-pain-vin-7/
END:VEVENT
BEGIN:VEVENT
DTSTART;TZID=Europe/Paris:20220922T080000
DTEND;TZID=Europe/Paris:20220922T170000
DTSTAMP:20260425T132326
CREATED:20220422T083119Z
LAST-MODIFIED:20220422T083119Z
UID:2191-1663833600-1663866000@zolamap.fr
SUMMARY:Légumes / Pain-Vin / Fromage
DESCRIPTION:
URL:https://zolamap.fr/index.php/event/legumes-pain-vin-fromage-9/
END:VEVENT
BEGIN:VEVENT
DTSTART;TZID=Europe/Paris:20220929T080000
DTEND;TZID=Europe/Paris:20220929T170000
DTSTAMP:20260425T132326
CREATED:20220422T083218Z
LAST-MODIFIED:20220422T083218Z
UID:2194-1664438400-1664470800@zolamap.fr
SUMMARY:Légumes / Pain-Vin / Volaille
DESCRIPTION:
URL:https://zolamap.fr/index.php/event/legumes-pain-vin-volaille-5/
END:VEVENT
END:VCALENDAR