BEGIN:VCALENDAR
VERSION:2.0
PRODID:-// - ECPv6.15.20//NONSGML v1.0//EN
CALSCALE:GREGORIAN
METHOD:PUBLISH
X-ORIGINAL-URL:https://zolamap.fr
X-WR-CALDESC:Évènements pour 
REFRESH-INTERVAL;VALUE=DURATION:PT1H
X-Robots-Tag:noindex
X-PUBLISHED-TTL:PT1H
BEGIN:VTIMEZONE
TZID:Europe/Paris
BEGIN:DAYLIGHT
TZOFFSETFROM:+0100
TZOFFSETTO:+0200
TZNAME:CEST
DTSTART:20210328T010000
END:DAYLIGHT
BEGIN:STANDARD
TZOFFSETFROM:+0200
TZOFFSETTO:+0100
TZNAME:CET
DTSTART:20211031T010000
END:STANDARD
BEGIN:DAYLIGHT
TZOFFSETFROM:+0100
TZOFFSETTO:+0200
TZNAME:CEST
DTSTART:20220327T010000
END:DAYLIGHT
BEGIN:STANDARD
TZOFFSETFROM:+0200
TZOFFSETTO:+0100
TZNAME:CET
DTSTART:20221030T010000
END:STANDARD
BEGIN:DAYLIGHT
TZOFFSETFROM:+0100
TZOFFSETTO:+0200
TZNAME:CEST
DTSTART:20230326T010000
END:DAYLIGHT
BEGIN:STANDARD
TZOFFSETFROM:+0200
TZOFFSETTO:+0100
TZNAME:CET
DTSTART:20231029T010000
END:STANDARD
END:VTIMEZONE
BEGIN:VEVENT
DTSTART;VALUE=DATE:20220407
DTEND;VALUE=DATE:20220408
DTSTAMP:20260425T200106
CREATED:20211015T084158Z
LAST-MODIFIED:20220315T092453Z
UID:1999-1649289600-1649375999@zolamap.fr
SUMMARY:Pain-Vin-Pizza / Charcuterie / Flash fromage / retours contrats
DESCRIPTION:
URL:https://zolamap.fr/index.php/event/legumes-pain-vin-pizza-charcuterie/
END:VEVENT
BEGIN:VEVENT
DTSTART;VALUE=DATE:20220414
DTEND;VALUE=DATE:20220415
DTSTAMP:20260425T200106
CREATED:20211015T084233Z
LAST-MODIFIED:20220210T145817Z
UID:2001-1649894400-1649980799@zolamap.fr
SUMMARY:Pain-Vin / Volaille / retours contrats
DESCRIPTION:
URL:https://zolamap.fr/index.php/event/legumes-pain-vin-volaille-2/
END:VEVENT
BEGIN:VEVENT
DTSTART;VALUE=DATE:20220421
DTEND;VALUE=DATE:20220422
DTSTAMP:20260425T200106
CREATED:20211015T084301Z
LAST-MODIFIED:20211015T084301Z
UID:2003-1650499200-1650585599@zolamap.fr
SUMMARY:Vacances - pas d'Amap
DESCRIPTION:
URL:https://zolamap.fr/index.php/event/vacances-pas-damap-3/
END:VEVENT
BEGIN:VEVENT
DTSTART;VALUE=DATE:20220428
DTEND;VALUE=DATE:20220429
DTSTAMP:20260425T200106
CREATED:20211015T084317Z
LAST-MODIFIED:20220422T082046Z
UID:2005-1651104000-1651190399@zolamap.fr
SUMMARY:Pain-Vin
DESCRIPTION:
URL:https://zolamap.fr/index.php/event/vacances-pas-damap-4/
END:VEVENT
END:VCALENDAR