BEGIN:VCALENDAR
VERSION:2.0
PRODID:-// - ECPv6.15.20//NONSGML v1.0//EN
CALSCALE:GREGORIAN
METHOD:PUBLISH
X-ORIGINAL-URL:https://zolamap.fr
X-WR-CALDESC:Évènements pour 
REFRESH-INTERVAL;VALUE=DURATION:PT1H
X-Robots-Tag:noindex
X-PUBLISHED-TTL:PT1H
BEGIN:VTIMEZONE
TZID:Europe/Paris
BEGIN:DAYLIGHT
TZOFFSETFROM:+0100
TZOFFSETTO:+0200
TZNAME:CEST
DTSTART:20210328T010000
END:DAYLIGHT
BEGIN:STANDARD
TZOFFSETFROM:+0200
TZOFFSETTO:+0100
TZNAME:CET
DTSTART:20211031T010000
END:STANDARD
BEGIN:DAYLIGHT
TZOFFSETFROM:+0100
TZOFFSETTO:+0200
TZNAME:CEST
DTSTART:20220327T010000
END:DAYLIGHT
BEGIN:STANDARD
TZOFFSETFROM:+0200
TZOFFSETTO:+0100
TZNAME:CET
DTSTART:20221030T010000
END:STANDARD
BEGIN:DAYLIGHT
TZOFFSETFROM:+0100
TZOFFSETTO:+0200
TZNAME:CEST
DTSTART:20230326T010000
END:DAYLIGHT
BEGIN:STANDARD
TZOFFSETFROM:+0200
TZOFFSETTO:+0100
TZNAME:CET
DTSTART:20231029T010000
END:STANDARD
END:VTIMEZONE
BEGIN:VEVENT
DTSTART;VALUE=DATE:20220106
DTEND;VALUE=DATE:20220107
DTSTAMP:20260426T000018
CREATED:20211015T083408Z
LAST-MODIFIED:20211015T084651Z
UID:1973-1641427200-1641513599@zolamap.fr
SUMMARY:Légumes / Pain-Vin / Fromage /
DESCRIPTION:
URL:https://zolamap.fr/index.php/event/legumes-pain-vin-fromage-charcuterie-3/
END:VEVENT
BEGIN:VEVENT
DTSTART;TZID=Europe/Paris:20220113T080000
DTEND;TZID=Europe/Paris:20220113T170000
DTSTAMP:20260426T000018
CREATED:20210716T120939Z
LAST-MODIFIED:20211015T083502Z
UID:1851-1642060800-1642093200@zolamap.fr
SUMMARY:Légumes / Pain-Vin / Fromage / Charcuterie
DESCRIPTION:
URL:https://zolamap.fr/index.php/event/fromage-5/
END:VEVENT
BEGIN:VEVENT
DTSTART;VALUE=DATE:20220120
DTEND;VALUE=DATE:20220121
DTSTAMP:20260426T000018
CREATED:20211015T083435Z
LAST-MODIFIED:20211015T083435Z
UID:1975-1642636800-1642723199@zolamap.fr
SUMMARY:Légumes / Pain-Vin /
DESCRIPTION:
URL:https://zolamap.fr/index.php/event/legumes-pain-vin-29/
END:VEVENT
BEGIN:VEVENT
DTSTART;VALUE=DATE:20220127
DTEND;VALUE=DATE:20220128
DTSTAMP:20260426T000018
CREATED:20211015T083621Z
LAST-MODIFIED:20211015T083621Z
UID:1978-1643241600-1643327999@zolamap.fr
SUMMARY:Légumes / Pain-Vin-Brioche / Volaille / Fromage / Lentilles
DESCRIPTION:
URL:https://zolamap.fr/index.php/event/legumes-pain-vin-brioche-volaille-fromage-lentilles/
END:VEVENT
END:VCALENDAR