BEGIN:VCALENDAR
VERSION:2.0
PRODID:-// - ECPv6.15.20//NONSGML v1.0//EN
CALSCALE:GREGORIAN
METHOD:PUBLISH
X-ORIGINAL-URL:https://zolamap.fr
X-WR-CALDESC:Évènements pour 
REFRESH-INTERVAL;VALUE=DURATION:PT1H
X-Robots-Tag:noindex
X-PUBLISHED-TTL:PT1H
BEGIN:VTIMEZONE
TZID:Europe/Paris
BEGIN:DAYLIGHT
TZOFFSETFROM:+0100
TZOFFSETTO:+0200
TZNAME:CEST
DTSTART:20200329T010000
END:DAYLIGHT
BEGIN:STANDARD
TZOFFSETFROM:+0200
TZOFFSETTO:+0100
TZNAME:CET
DTSTART:20201025T010000
END:STANDARD
BEGIN:DAYLIGHT
TZOFFSETFROM:+0100
TZOFFSETTO:+0200
TZNAME:CEST
DTSTART:20210328T010000
END:DAYLIGHT
BEGIN:STANDARD
TZOFFSETFROM:+0200
TZOFFSETTO:+0100
TZNAME:CET
DTSTART:20211031T010000
END:STANDARD
BEGIN:DAYLIGHT
TZOFFSETFROM:+0100
TZOFFSETTO:+0200
TZNAME:CEST
DTSTART:20220327T010000
END:DAYLIGHT
BEGIN:STANDARD
TZOFFSETFROM:+0200
TZOFFSETTO:+0100
TZNAME:CET
DTSTART:20221030T010000
END:STANDARD
END:VTIMEZONE
BEGIN:VEVENT
DTSTART;VALUE=DATE:20211202
DTEND;VALUE=DATE:20211203
DTSTAMP:20260426T012048
CREATED:20210716T120900Z
LAST-MODIFIED:20211015T082927Z
UID:1847-1638403200-1638489599@zolamap.fr
SUMMARY:Légumes / Pain-Vin-Pizza / Fromage / Charcuterie
DESCRIPTION:
URL:https://zolamap.fr/index.php/event/fromage-3/
END:VEVENT
BEGIN:VEVENT
DTSTART;VALUE=DATE:20211209
DTEND;VALUE=DATE:20211210
DTSTAMP:20260426T012048
CREATED:20211015T082950Z
LAST-MODIFIED:20211015T082950Z
UID:1964-1639008000-1639094399@zolamap.fr
SUMMARY:Légumes / Pain-Vin /
DESCRIPTION:
URL:https://zolamap.fr/index.php/event/legumes-pain-vin-28/
END:VEVENT
BEGIN:VEVENT
DTSTART;VALUE=DATE:20211216
DTEND;VALUE=DATE:20211217
DTSTAMP:20260426T012048
CREATED:20210716T120920Z
LAST-MODIFIED:20211015T083145Z
UID:1849-1639612800-1639699199@zolamap.fr
SUMMARY:Légumes / Pain-Vin / Fromage / Miel-Plantes / Chataîgnes
DESCRIPTION:
URL:https://zolamap.fr/index.php/event/fromage-4/
END:VEVENT
BEGIN:VEVENT
DTSTART;VALUE=DATE:20211223
DTEND;VALUE=DATE:20211224
DTSTAMP:20260426T012048
CREATED:20211015T084802Z
LAST-MODIFIED:20211015T084802Z
UID:2010-1640217600-1640303999@zolamap.fr
SUMMARY:Légumes / Pain-Vin / Volaille
DESCRIPTION:
URL:https://zolamap.fr/index.php/event/legumes-pain-vin-volaille-3/
END:VEVENT
BEGIN:VEVENT
DTSTART;VALUE=DATE:20211230
DTEND;VALUE=DATE:20211231
DTSTAMP:20260426T012048
CREATED:20211015T083309Z
LAST-MODIFIED:20211015T083309Z
UID:1969-1640822400-1640908799@zolamap.fr
SUMMARY:Vacances - pas d'AMAP
DESCRIPTION:
URL:https://zolamap.fr/index.php/event/vacances-pas-damap/
END:VEVENT
END:VCALENDAR