BEGIN:VCALENDAR
VERSION:2.0
PRODID:-// - ECPv6.15.20//NONSGML v1.0//EN
CALSCALE:GREGORIAN
METHOD:PUBLISH
X-ORIGINAL-URL:https://zolamap.fr
X-WR-CALDESC:Évènements pour 
REFRESH-INTERVAL;VALUE=DURATION:PT1H
X-Robots-Tag:noindex
X-PUBLISHED-TTL:PT1H
BEGIN:VTIMEZONE
TZID:Europe/Paris
BEGIN:DAYLIGHT
TZOFFSETFROM:+0100
TZOFFSETTO:+0200
TZNAME:CEST
DTSTART:20200329T010000
END:DAYLIGHT
BEGIN:STANDARD
TZOFFSETFROM:+0200
TZOFFSETTO:+0100
TZNAME:CET
DTSTART:20201025T010000
END:STANDARD
BEGIN:DAYLIGHT
TZOFFSETFROM:+0100
TZOFFSETTO:+0200
TZNAME:CEST
DTSTART:20210328T010000
END:DAYLIGHT
BEGIN:STANDARD
TZOFFSETFROM:+0200
TZOFFSETTO:+0100
TZNAME:CET
DTSTART:20211031T010000
END:STANDARD
BEGIN:DAYLIGHT
TZOFFSETFROM:+0100
TZOFFSETTO:+0200
TZNAME:CEST
DTSTART:20220327T010000
END:DAYLIGHT
BEGIN:STANDARD
TZOFFSETFROM:+0200
TZOFFSETTO:+0100
TZNAME:CET
DTSTART:20221030T010000
END:STANDARD
END:VTIMEZONE
BEGIN:VEVENT
DTSTART;VALUE=DATE:20211007
DTEND;VALUE=DATE:20211008
DTSTAMP:20260426T035740
CREATED:20210329T072650Z
LAST-MODIFIED:20210716T120658Z
UID:1719-1633564800-1633651199@zolamap.fr
SUMMARY:Légumes - Pain/Vin - Charcuterie - Miel/Plantes - Fromage
DESCRIPTION:
URL:https://zolamap.fr/index.php/event/legumes-pain-vin-charcuterie-miel-plantes-2/
END:VEVENT
BEGIN:VEVENT
DTSTART;VALUE=DATE:20211014
DTEND;VALUE=DATE:20211015
DTSTAMP:20260426T035740
CREATED:20210329T072714Z
LAST-MODIFIED:20210329T072825Z
UID:1721-1634169600-1634255999@zolamap.fr
SUMMARY:Légumes - Pain/Vin - retours contrats
DESCRIPTION:
URL:https://zolamap.fr/index.php/event/legumes-pain-vin-26/
END:VEVENT
BEGIN:VEVENT
DTSTART;VALUE=DATE:20211015
DTEND;VALUE=DATE:20211016
DTSTAMP:20260426T035740
CREATED:20211015T083217Z
LAST-MODIFIED:20211015T083241Z
UID:1967-1634256000-1634342399@zolamap.fr
SUMMARY:Légumes / Pain-Vin / Volaille
DESCRIPTION:
URL:https://zolamap.fr/index.php/event/legumes-pain-vin-volaille/
END:VEVENT
BEGIN:VEVENT
DTSTART;VALUE=DATE:20211015
DTEND;VALUE=DATE:20211016
DTSTAMP:20260426T035740
CREATED:20211015T083339Z
LAST-MODIFIED:20211015T083339Z
UID:1971-1634256000-1634342399@zolamap.fr
SUMMARY:Légumes / Pain-Vin-Pizza /
DESCRIPTION:
URL:https://zolamap.fr/index.php/event/legumes-pain-vin-pizza/
END:VEVENT
BEGIN:VEVENT
DTSTART;TZID=Europe/Paris:20211015T080000
DTEND;TZID=Europe/Paris:20211015T170000
DTSTAMP:20260426T035740
CREATED:20211015T082802Z
LAST-MODIFIED:20211015T082802Z
UID:1960-1634284800-1634317200@zolamap.fr
SUMMARY:Légumes / Pain-Vin-Pizza / Charcuterie / Fromage
DESCRIPTION:
URL:https://zolamap.fr/index.php/event/legumes-pain-vin-pizza-charcuterie-fromage/
END:VEVENT
BEGIN:VEVENT
DTSTART;VALUE=DATE:20211021
DTEND;VALUE=DATE:20211022
DTSTAMP:20260426T035740
CREATED:20210329T072737Z
LAST-MODIFIED:20211005T092656Z
UID:1723-1634774400-1634860799@zolamap.fr
SUMMARY:Pain/Vin - Volaille - Fromage - Châtaignes - retours contrats
DESCRIPTION:
URL:https://zolamap.fr/index.php/event/legumes-pain-vin-27/
END:VEVENT
BEGIN:VEVENT
DTSTART;VALUE=DATE:20211028
DTEND;VALUE=DATE:20211029
DTSTAMP:20260426T035740
CREATED:20210329T072910Z
LAST-MODIFIED:20211015T084918Z
UID:1727-1635379200-1635465599@zolamap.fr
SUMMARY:Vacances - pas d'AMAP
DESCRIPTION:
URL:https://zolamap.fr/index.php/event/vacances-scolaires-7/
END:VEVENT
END:VCALENDAR