BEGIN:VCALENDAR
VERSION:2.0
PRODID:-// - ECPv6.15.20//NONSGML v1.0//EN
CALSCALE:GREGORIAN
METHOD:PUBLISH
X-ORIGINAL-URL:https://zolamap.fr
X-WR-CALDESC:Évènements pour 
REFRESH-INTERVAL;VALUE=DURATION:PT1H
X-Robots-Tag:noindex
X-PUBLISHED-TTL:PT1H
BEGIN:VTIMEZONE
TZID:Europe/Paris
BEGIN:DAYLIGHT
TZOFFSETFROM:+0100
TZOFFSETTO:+0200
TZNAME:CEST
DTSTART:20240331T010000
END:DAYLIGHT
BEGIN:STANDARD
TZOFFSETFROM:+0200
TZOFFSETTO:+0100
TZNAME:CET
DTSTART:20241027T010000
END:STANDARD
BEGIN:DAYLIGHT
TZOFFSETFROM:+0100
TZOFFSETTO:+0200
TZNAME:CEST
DTSTART:20250330T010000
END:DAYLIGHT
BEGIN:STANDARD
TZOFFSETFROM:+0200
TZOFFSETTO:+0100
TZNAME:CET
DTSTART:20251026T010000
END:STANDARD
BEGIN:DAYLIGHT
TZOFFSETFROM:+0100
TZOFFSETTO:+0200
TZNAME:CEST
DTSTART:20260329T010000
END:DAYLIGHT
BEGIN:STANDARD
TZOFFSETFROM:+0200
TZOFFSETTO:+0100
TZNAME:CET
DTSTART:20261025T010000
END:STANDARD
END:VTIMEZONE
BEGIN:VEVENT
DTSTART;VALUE=DATE:20251204
DTEND;VALUE=DATE:20251205
DTSTAMP:20260419T155552
CREATED:20250903T065716Z
LAST-MODIFIED:20250903T065716Z
UID:17531-1764806400-1764892799@zolamap.fr
SUMMARY:Miels et plantes
DESCRIPTION:
URL:https://zolamap.fr/index.php/event/miels-et-plantes-2/
END:VEVENT
BEGIN:VEVENT
DTSTART;TZID=Europe/Paris:20251204T181500
DTEND;TZID=Europe/Paris:20251204T191500
DTSTAMP:20260419T155552
CREATED:20251116T084444Z
LAST-MODIFIED:20251116T084444Z
UID:17656-1764872100-1764875700@zolamap.fr
SUMMARY:Légumes & fruits hiver 2025-2026
DESCRIPTION:
URL:https://zolamap.fr/index.php/event/legumes-fruits-hiver-2025-2026-3/
LOCATION:Zolamap\, Ecole Emile Zola\, Villeurbanne
END:VEVENT
BEGIN:VEVENT
DTSTART;TZID=Europe/Paris:20251204T181500
DTEND;TZID=Europe/Paris:20251204T191500
DTSTAMP:20260419T155552
CREATED:20251116T090343Z
LAST-MODIFIED:20251116T090343Z
UID:17695-1764872100-1764875700@zolamap.fr
SUMMARY:Pain Automne Hiver 2025-26 VF
DESCRIPTION:
URL:https://zolamap.fr/index.php/event/pain-automne-hiver-2025-26-vf-3/
LOCATION:Zolamap\, Ecole Emile Zola\, Villeurbanne
END:VEVENT
END:VCALENDAR