BEGIN:VCALENDAR
VERSION:2.0
PRODID:-// - ECPv6.15.20//NONSGML v1.0//EN
CALSCALE:GREGORIAN
METHOD:PUBLISH
X-ORIGINAL-URL:https://zolamap.fr
X-WR-CALDESC:Évènements pour 
REFRESH-INTERVAL;VALUE=DURATION:PT1H
X-Robots-Tag:noindex
X-PUBLISHED-TTL:PT1H
BEGIN:VTIMEZONE
TZID:Europe/Paris
BEGIN:DAYLIGHT
TZOFFSETFROM:+0100
TZOFFSETTO:+0200
TZNAME:CEST
DTSTART:20240331T010000
END:DAYLIGHT
BEGIN:STANDARD
TZOFFSETFROM:+0200
TZOFFSETTO:+0100
TZNAME:CET
DTSTART:20241027T010000
END:STANDARD
BEGIN:DAYLIGHT
TZOFFSETFROM:+0100
TZOFFSETTO:+0200
TZNAME:CEST
DTSTART:20250330T010000
END:DAYLIGHT
BEGIN:STANDARD
TZOFFSETFROM:+0200
TZOFFSETTO:+0100
TZNAME:CET
DTSTART:20251026T010000
END:STANDARD
BEGIN:DAYLIGHT
TZOFFSETFROM:+0100
TZOFFSETTO:+0200
TZNAME:CEST
DTSTART:20260329T010000
END:DAYLIGHT
BEGIN:STANDARD
TZOFFSETFROM:+0200
TZOFFSETTO:+0100
TZNAME:CET
DTSTART:20261025T010000
END:STANDARD
END:VTIMEZONE
BEGIN:VEVENT
DTSTART;TZID=Europe/Paris:20251120T181500
DTEND;TZID=Europe/Paris:20251120T191500
DTSTAMP:20260419T171048
CREATED:20251116T084318Z
LAST-MODIFIED:20251116T084318Z
UID:17652-1763662500-1763666100@zolamap.fr
SUMMARY:Légumes & fruits hiver 2025-2026
DESCRIPTION:
URL:https://zolamap.fr/index.php/event/legumes-fruits-hiver-2025-2026/
LOCATION:Zolamap\, Ecole Emile Zola\, Villeurbanne
END:VEVENT
BEGIN:VEVENT
DTSTART;TZID=Europe/Paris:20251120T181500
DTEND;TZID=Europe/Paris:20251120T191500
DTSTAMP:20260419T171048
CREATED:20251116T085737Z
LAST-MODIFIED:20251116T085737Z
UID:17678-1763662500-1763666100@zolamap.fr
SUMMARY:Poulet/oeufs automne/hiver 2025
DESCRIPTION:
URL:https://zolamap.fr/index.php/event/poulet-oeufs-automne-hiver-2025/
LOCATION:Zolamap\, Ecole Emile Zola\, Villeurbanne
END:VEVENT
BEGIN:VEVENT
DTSTART;TZID=Europe/Paris:20251120T181500
DTEND;TZID=Europe/Paris:20251120T191500
DTSTAMP:20260419T171048
CREATED:20251116T090251Z
LAST-MODIFIED:20251116T090251Z
UID:17691-1763662500-1763666100@zolamap.fr
SUMMARY:Pain Automne Hiver 2025-26 VF
DESCRIPTION:
URL:https://zolamap.fr/index.php/event/pain-automne-hiver-2025-26-vf/
LOCATION:Zolamap\, Ecole Emile Zola\, Villeurbanne
END:VEVENT
BEGIN:VEVENT
DTSTART;TZID=Europe/Paris:20251120T181500
DTEND;TZID=Europe/Paris:20251120T191500
DTSTAMP:20260419T171048
CREATED:20251116T092010Z
LAST-MODIFIED:20251116T092010Z
UID:17739-1763662500-1763666100@zolamap.fr
SUMMARY:Flash lentilles
DESCRIPTION:
URL:https://zolamap.fr/index.php/event/flash-lentilles-3/
LOCATION:Zolamap\, Ecole Emile Zola\, Villeurbanne
END:VEVENT
BEGIN:VEVENT
DTSTART;TZID=Europe/Paris:20251120T181500
DTEND;TZID=Europe/Paris:20251120T191500
DTSTAMP:20260419T171048
CREATED:20251116T092134Z
LAST-MODIFIED:20251116T092134Z
UID:17741-1763662500-1763666100@zolamap.fr
SUMMARY:Flash Beaujolais Nouveau
DESCRIPTION:
URL:https://zolamap.fr/index.php/event/flash-beaujolais-nouveau/
LOCATION:Zolamap\, Ecole Emile Zola\, Villeurbanne
END:VEVENT
END:VCALENDAR