BEGIN:VCALENDAR
VERSION:2.0
PRODID:-// - ECPv6.15.20//NONSGML v1.0//EN
CALSCALE:GREGORIAN
METHOD:PUBLISH
X-ORIGINAL-URL:https://zolamap.fr
X-WR-CALDESC:Évènements pour 
REFRESH-INTERVAL;VALUE=DURATION:PT1H
X-Robots-Tag:noindex
X-PUBLISHED-TTL:PT1H
BEGIN:VTIMEZONE
TZID:Europe/Paris
BEGIN:DAYLIGHT
TZOFFSETFROM:+0100
TZOFFSETTO:+0200
TZNAME:CEST
DTSTART:20240331T010000
END:DAYLIGHT
BEGIN:STANDARD
TZOFFSETFROM:+0200
TZOFFSETTO:+0100
TZNAME:CET
DTSTART:20241027T010000
END:STANDARD
BEGIN:DAYLIGHT
TZOFFSETFROM:+0100
TZOFFSETTO:+0200
TZNAME:CEST
DTSTART:20250330T010000
END:DAYLIGHT
BEGIN:STANDARD
TZOFFSETFROM:+0200
TZOFFSETTO:+0100
TZNAME:CET
DTSTART:20251026T010000
END:STANDARD
BEGIN:DAYLIGHT
TZOFFSETFROM:+0100
TZOFFSETTO:+0200
TZNAME:CEST
DTSTART:20260329T010000
END:DAYLIGHT
BEGIN:STANDARD
TZOFFSETFROM:+0200
TZOFFSETTO:+0100
TZNAME:CET
DTSTART:20261025T010000
END:STANDARD
END:VTIMEZONE
BEGIN:VEVENT
DTSTART;VALUE=DATE:20250320
DTEND;VALUE=DATE:20250321
DTSTAMP:20260421T163156
CREATED:20241015T211715Z
LAST-MODIFIED:20241015T211715Z
UID:17123-1742428800-1742515199@zolamap.fr
SUMMARY:VIANDE DE PORC HIVER 2024-2025
DESCRIPTION:
URL:https://zolamap.fr/index.php/event/viande-de-porc-hiver-2024-2025-5/
LOCATION:Zolamap\, Ecole Emile Zola\, Villeurbanne
END:VEVENT
BEGIN:VEVENT
DTSTART;VALUE=DATE:20250320
DTEND;VALUE=DATE:20250321
DTSTAMP:20260421T163156
CREATED:20250316T132739Z
LAST-MODIFIED:20250316T132739Z
UID:17249-1742428800-1742515199@zolamap.fr
SUMMARY:CONTRAT FLASH Veau mars 2025
DESCRIPTION:
URL:https://zolamap.fr/index.php/event/contrat-flash-veau-mars-2025/
LOCATION:Zolamap\, Ecole Emile Zola\, Villeurbanne
END:VEVENT
BEGIN:VEVENT
DTSTART;VALUE=DATE:20250320
DTEND;VALUE=DATE:20250321
DTSTAMP:20260421T163156
CREATED:20250316T132808Z
LAST-MODIFIED:20250316T132808Z
UID:17251-1742428800-1742515199@zolamap.fr
SUMMARY:Agrumes
DESCRIPTION:
URL:https://zolamap.fr/index.php/event/agrumes/
LOCATION:Zolamap\, Ecole Emile Zola\, Villeurbanne
END:VEVENT
BEGIN:VEVENT
DTSTART;VALUE=DATE:20250320
DTEND;VALUE=DATE:20250321
DTSTAMP:20260421T163156
CREATED:20250316T172129Z
LAST-MODIFIED:20250316T172129Z
UID:17253-1742428800-1742515199@zolamap.fr
SUMMARY:Pain Printemps Eté 2025
DESCRIPTION:
URL:https://zolamap.fr/index.php/event/pain-printemps-ete-2025/
LOCATION:Zolamap\, Ecole Emile Zola\, Villeurbanne
END:VEVENT
BEGIN:VEVENT
DTSTART;VALUE=DATE:20250320
DTEND;VALUE=DATE:20250321
DTSTAMP:20260421T163156
CREATED:20250316T172412Z
LAST-MODIFIED:20250316T172412Z
UID:17269-1742428800-1742515199@zolamap.fr
SUMMARY:Vins Printemps Eté 2025
DESCRIPTION:
URL:https://zolamap.fr/index.php/event/vins-printemps-ete-2025/
LOCATION:Zolamap\, Ecole Emile Zola\, Villeurbanne
END:VEVENT
END:VCALENDAR