BEGIN:VCALENDAR
VERSION:2.0
PRODID:-// - ECPv6.15.20//NONSGML v1.0//EN
CALSCALE:GREGORIAN
METHOD:PUBLISH
X-ORIGINAL-URL:https://zolamap.fr
X-WR-CALDESC:Évènements pour 
REFRESH-INTERVAL;VALUE=DURATION:PT1H
X-Robots-Tag:noindex
X-PUBLISHED-TTL:PT1H
BEGIN:VTIMEZONE
TZID:Europe/Paris
BEGIN:DAYLIGHT
TZOFFSETFROM:+0100
TZOFFSETTO:+0200
TZNAME:CEST
DTSTART:20240331T010000
END:DAYLIGHT
BEGIN:STANDARD
TZOFFSETFROM:+0200
TZOFFSETTO:+0100
TZNAME:CET
DTSTART:20241027T010000
END:STANDARD
BEGIN:DAYLIGHT
TZOFFSETFROM:+0100
TZOFFSETTO:+0200
TZNAME:CEST
DTSTART:20250330T010000
END:DAYLIGHT
BEGIN:STANDARD
TZOFFSETFROM:+0200
TZOFFSETTO:+0100
TZNAME:CET
DTSTART:20251026T010000
END:STANDARD
BEGIN:DAYLIGHT
TZOFFSETFROM:+0100
TZOFFSETTO:+0200
TZNAME:CEST
DTSTART:20260329T010000
END:DAYLIGHT
BEGIN:STANDARD
TZOFFSETFROM:+0200
TZOFFSETTO:+0100
TZNAME:CET
DTSTART:20261025T010000
END:STANDARD
END:VTIMEZONE
BEGIN:VEVENT
DTSTART;VALUE=DATE:20250213
DTEND;VALUE=DATE:20250214
DTSTAMP:20260421T175351
CREATED:20240923T161010Z
LAST-MODIFIED:20241106T120622Z
UID:16950-1739404800-1739491199@zolamap.fr
SUMMARY:Farine et pâtes
DESCRIPTION:
URL:https://zolamap.fr/index.php/event/farine-et-pates-2/
END:VEVENT
BEGIN:VEVENT
DTSTART;VALUE=DATE:20250213
DTEND;VALUE=DATE:20250214
DTSTAMP:20260421T175351
CREATED:20240924T211913Z
LAST-MODIFIED:20240924T211913Z
UID:17033-1739404800-1739491199@zolamap.fr
SUMMARY:Légumes & fruits
DESCRIPTION:
URL:https://zolamap.fr/index.php/event/legumes-fruits-24/
LOCATION:Zolamap\, Ecole Emile Zola\, Villeurbanne
END:VEVENT
BEGIN:VEVENT
DTSTART;VALUE=DATE:20250213
DTEND;VALUE=DATE:20250214
DTSTAMP:20260421T175351
CREATED:20241015T210922Z
LAST-MODIFIED:20241015T210922Z
UID:17104-1739404800-1739491199@zolamap.fr
SUMMARY:Vins Hiver 2024
DESCRIPTION:
URL:https://zolamap.fr/index.php/event/vins-hiver-2024-15/
LOCATION:Zolamap\, Ecole Emile Zola\, Villeurbanne
END:VEVENT
BEGIN:VEVENT
DTSTART;VALUE=DATE:20250213
DTEND;VALUE=DATE:20250214
DTSTAMP:20260421T175351
CREATED:20241107T212450Z
LAST-MODIFIED:20241107T212535Z
UID:17142-1739404800-1739491199@zolamap.fr
SUMMARY:Poulets\, œufs\, plats cuisinés
DESCRIPTION:
URL:https://zolamap.fr/index.php/event/poulets-oeufs-plats-cuisines-5/
END:VEVENT
END:VCALENDAR