BEGIN:VCALENDAR
VERSION:2.0
PRODID:-// - ECPv6.15.20//NONSGML v1.0//EN
CALSCALE:GREGORIAN
METHOD:PUBLISH
X-ORIGINAL-URL:https://zolamap.fr
X-WR-CALDESC:Évènements pour 
REFRESH-INTERVAL;VALUE=DURATION:PT1H
X-Robots-Tag:noindex
X-PUBLISHED-TTL:PT1H
BEGIN:VTIMEZONE
TZID:Europe/Paris
BEGIN:DAYLIGHT
TZOFFSETFROM:+0100
TZOFFSETTO:+0200
TZNAME:CEST
DTSTART:20240331T010000
END:DAYLIGHT
BEGIN:STANDARD
TZOFFSETFROM:+0200
TZOFFSETTO:+0100
TZNAME:CET
DTSTART:20241027T010000
END:STANDARD
BEGIN:DAYLIGHT
TZOFFSETFROM:+0100
TZOFFSETTO:+0200
TZNAME:CEST
DTSTART:20250330T010000
END:DAYLIGHT
BEGIN:STANDARD
TZOFFSETFROM:+0200
TZOFFSETTO:+0100
TZNAME:CET
DTSTART:20251026T010000
END:STANDARD
BEGIN:DAYLIGHT
TZOFFSETFROM:+0100
TZOFFSETTO:+0200
TZNAME:CEST
DTSTART:20260329T010000
END:DAYLIGHT
BEGIN:STANDARD
TZOFFSETFROM:+0200
TZOFFSETTO:+0100
TZNAME:CET
DTSTART:20261025T010000
END:STANDARD
END:VTIMEZONE
BEGIN:VEVENT
DTSTART;VALUE=DATE:20250123
DTEND;VALUE=DATE:20250124
DTSTAMP:20260421T193326
CREATED:20240923T161230Z
LAST-MODIFIED:20240923T161230Z
UID:16958-1737590400-1737676799@zolamap.fr
SUMMARY:Lentilles
DESCRIPTION:
URL:https://zolamap.fr/index.php/event/lentilles-6/
END:VEVENT
BEGIN:VEVENT
DTSTART;VALUE=DATE:20250123
DTEND;VALUE=DATE:20250124
DTSTAMP:20260421T193326
CREATED:20240924T211746Z
LAST-MODIFIED:20240924T211746Z
UID:17027-1737590400-1737676799@zolamap.fr
SUMMARY:Légumes & fruits
DESCRIPTION:
URL:https://zolamap.fr/index.php/event/legumes-fruits-21/
LOCATION:Zolamap\, Ecole Emile Zola\, Villeurbanne
END:VEVENT
BEGIN:VEVENT
DTSTART;VALUE=DATE:20250123
DTEND;VALUE=DATE:20250124
DTSTAMP:20260421T193326
CREATED:20241015T210801Z
LAST-MODIFIED:20241015T210801Z
UID:17098-1737590400-1737676799@zolamap.fr
SUMMARY:Vins Hiver 2024
DESCRIPTION:
URL:https://zolamap.fr/index.php/event/vins-hiver-2024-12/
LOCATION:Zolamap\, Ecole Emile Zola\, Villeurbanne
END:VEVENT
BEGIN:VEVENT
DTSTART;VALUE=DATE:20250123
DTEND;VALUE=DATE:20250124
DTSTAMP:20260421T193326
CREATED:20241015T211510Z
LAST-MODIFIED:20241015T211552Z
UID:17118-1737590400-1737676799@zolamap.fr
SUMMARY:VIANDE DE PORC HIVER 2024-2025
DESCRIPTION:
URL:https://zolamap.fr/index.php/event/17118/
LOCATION:Zolamap\, Ecole Emile Zola\, Villeurbanne
END:VEVENT
END:VCALENDAR