BEGIN:VCALENDAR
VERSION:2.0
PRODID:-// - ECPv6.15.20//NONSGML v1.0//EN
CALSCALE:GREGORIAN
METHOD:PUBLISH
X-ORIGINAL-URL:https://zolamap.fr
X-WR-CALDESC:Évènements pour 
REFRESH-INTERVAL;VALUE=DURATION:PT1H
X-Robots-Tag:noindex
X-PUBLISHED-TTL:PT1H
BEGIN:VTIMEZONE
TZID:Europe/Paris
BEGIN:DAYLIGHT
TZOFFSETFROM:+0100
TZOFFSETTO:+0200
TZNAME:CEST
DTSTART:20230326T010000
END:DAYLIGHT
BEGIN:STANDARD
TZOFFSETFROM:+0200
TZOFFSETTO:+0100
TZNAME:CET
DTSTART:20231029T010000
END:STANDARD
BEGIN:DAYLIGHT
TZOFFSETFROM:+0100
TZOFFSETTO:+0200
TZNAME:CEST
DTSTART:20240331T010000
END:DAYLIGHT
BEGIN:STANDARD
TZOFFSETFROM:+0200
TZOFFSETTO:+0100
TZNAME:CET
DTSTART:20241027T010000
END:STANDARD
BEGIN:DAYLIGHT
TZOFFSETFROM:+0100
TZOFFSETTO:+0200
TZNAME:CEST
DTSTART:20250330T010000
END:DAYLIGHT
BEGIN:STANDARD
TZOFFSETFROM:+0200
TZOFFSETTO:+0100
TZNAME:CET
DTSTART:20251026T010000
END:STANDARD
END:VTIMEZONE
BEGIN:VEVENT
DTSTART;VALUE=DATE:20241114
DTEND;VALUE=DATE:20241115
DTSTAMP:20260421T223720
CREATED:20240924T211131Z
LAST-MODIFIED:20240924T211131Z
UID:17007-1731542400-1731628799@zolamap.fr
SUMMARY:Légumes & fruits
DESCRIPTION:
URL:https://zolamap.fr/index.php/event/legumes-fruits-14/
LOCATION:Zolamap\, Ecole Emile Zola\, Villeurbanne
END:VEVENT
BEGIN:VEVENT
DTSTART;VALUE=DATE:20241114
DTEND;VALUE=DATE:20241115
DTSTAMP:20260421T223720
CREATED:20241015T204722Z
LAST-MODIFIED:20241015T204722Z
UID:17057-1731542400-1731628799@zolamap.fr
SUMMARY:Miel
DESCRIPTION:
URL:https://zolamap.fr/index.php/event/miel-7/
LOCATION:Zolamap\, Ecole Emile Zola\, Villeurbanne
END:VEVENT
BEGIN:VEVENT
DTSTART;VALUE=DATE:20241114
DTEND;VALUE=DATE:20241115
DTSTAMP:20260421T223720
CREATED:20241015T210333Z
LAST-MODIFIED:20241015T210333Z
UID:17078-1731542400-1731628799@zolamap.fr
SUMMARY:Vins Hiver 2024
DESCRIPTION:
URL:https://zolamap.fr/index.php/event/vins-hiver-2024-2/
LOCATION:Zolamap\, Ecole Emile Zola\, Villeurbanne
END:VEVENT
BEGIN:VEVENT
DTSTART;VALUE=DATE:20241114
DTEND;VALUE=DATE:20241115
DTSTAMP:20260421T223720
CREATED:20241107T211530Z
LAST-MODIFIED:20241107T212339Z
UID:17132-1731542400-1731628799@zolamap.fr
SUMMARY:Poulets\, œufs\, plats cuisinés
DESCRIPTION:
URL:https://zolamap.fr/index.php/event/poulets-oeufs-plats-cuisines-2/
END:VEVENT
END:VCALENDAR