BEGIN:VCALENDAR
VERSION:2.0
PRODID:-// - ECPv6.15.20//NONSGML v1.0//EN
CALSCALE:GREGORIAN
METHOD:PUBLISH
X-ORIGINAL-URL:https://zolamap.fr
X-WR-CALDESC:Évènements pour 
REFRESH-INTERVAL;VALUE=DURATION:PT1H
X-Robots-Tag:noindex
X-PUBLISHED-TTL:PT1H
BEGIN:VTIMEZONE
TZID:Europe/Paris
BEGIN:DAYLIGHT
TZOFFSETFROM:+0100
TZOFFSETTO:+0200
TZNAME:CEST
DTSTART:20230326T010000
END:DAYLIGHT
BEGIN:STANDARD
TZOFFSETFROM:+0200
TZOFFSETTO:+0100
TZNAME:CET
DTSTART:20231029T010000
END:STANDARD
BEGIN:DAYLIGHT
TZOFFSETFROM:+0100
TZOFFSETTO:+0200
TZNAME:CEST
DTSTART:20240331T010000
END:DAYLIGHT
BEGIN:STANDARD
TZOFFSETFROM:+0200
TZOFFSETTO:+0100
TZNAME:CET
DTSTART:20241027T010000
END:STANDARD
BEGIN:DAYLIGHT
TZOFFSETFROM:+0100
TZOFFSETTO:+0200
TZNAME:CEST
DTSTART:20250330T010000
END:DAYLIGHT
BEGIN:STANDARD
TZOFFSETFROM:+0200
TZOFFSETTO:+0100
TZNAME:CET
DTSTART:20251026T010000
END:STANDARD
END:VTIMEZONE
BEGIN:VEVENT
DTSTART;TZID=Europe/Paris:20241010T181500
DTEND;TZID=Europe/Paris:20241010T191500
DTSTAMP:20260422T001832
CREATED:20240326T184021Z
LAST-MODIFIED:20240326T184021Z
UID:2966-1728584100-1728587700@zolamap.fr
SUMMARY:Légumes
DESCRIPTION:Légumes
URL:https://zolamap.fr/index.php/event/legumes-10/
LOCATION:Zolamap\, Ecole Emile Zola\, Villeurbanne
END:VEVENT
BEGIN:VEVENT
DTSTART;TZID=Europe/Paris:20241010T181500
DTEND;TZID=Europe/Paris:20241010T191500
DTSTAMP:20260422T001832
CREATED:20240326T184113Z
LAST-MODIFIED:20240326T184113Z
UID:2968-1728584100-1728587700@zolamap.fr
SUMMARY:Miel
DESCRIPTION:Miel
URL:https://zolamap.fr/index.php/event/miel-6/
LOCATION:Zolamap\, Ecole Emile Zola\, Villeurbanne
END:VEVENT
BEGIN:VEVENT
DTSTART;TZID=Europe/Paris:20241010T181500
DTEND;TZID=Europe/Paris:20241010T191500
DTSTAMP:20260422T001832
CREATED:20240326T210412Z
LAST-MODIFIED:20240326T210412Z
UID:3032-1728584100-1728587700@zolamap.fr
SUMMARY:Pain
DESCRIPTION:
URL:https://zolamap.fr/index.php/event/pain-8/
LOCATION:Zolamap\, Ecole Emile Zola\, Villeurbanne
END:VEVENT
BEGIN:VEVENT
DTSTART;TZID=Europe/Paris:20241010T181500
DTEND;TZID=Europe/Paris:20241010T191500
DTSTAMP:20260422T001832
CREATED:20240326T211545Z
LAST-MODIFIED:20240326T211545Z
UID:3068-1728584100-1728587700@zolamap.fr
SUMMARY:Vins
DESCRIPTION:
URL:https://zolamap.fr/index.php/event/vins-19/
LOCATION:Zolamap\, Ecole Emile Zola\, Villeurbanne
END:VEVENT
END:VCALENDAR