BEGIN:VCALENDAR
VERSION:2.0
PRODID:-// - ECPv6.15.20//NONSGML v1.0//EN
CALSCALE:GREGORIAN
METHOD:PUBLISH
X-ORIGINAL-URL:https://zolamap.fr
X-WR-CALDESC:Évènements pour 
REFRESH-INTERVAL;VALUE=DURATION:PT1H
X-Robots-Tag:noindex
X-PUBLISHED-TTL:PT1H
BEGIN:VTIMEZONE
TZID:Europe/Paris
BEGIN:DAYLIGHT
TZOFFSETFROM:+0100
TZOFFSETTO:+0200
TZNAME:CEST
DTSTART:20230326T010000
END:DAYLIGHT
BEGIN:STANDARD
TZOFFSETFROM:+0200
TZOFFSETTO:+0100
TZNAME:CET
DTSTART:20231029T010000
END:STANDARD
BEGIN:DAYLIGHT
TZOFFSETFROM:+0100
TZOFFSETTO:+0200
TZNAME:CEST
DTSTART:20240331T010000
END:DAYLIGHT
BEGIN:STANDARD
TZOFFSETFROM:+0200
TZOFFSETTO:+0100
TZNAME:CET
DTSTART:20241027T010000
END:STANDARD
BEGIN:DAYLIGHT
TZOFFSETFROM:+0100
TZOFFSETTO:+0200
TZNAME:CEST
DTSTART:20250330T010000
END:DAYLIGHT
BEGIN:STANDARD
TZOFFSETFROM:+0200
TZOFFSETTO:+0100
TZNAME:CET
DTSTART:20251026T010000
END:STANDARD
END:VTIMEZONE
BEGIN:VEVENT
DTSTART;VALUE=DATE:20240912
DTEND;VALUE=DATE:20240913
DTSTAMP:20260422T014556
CREATED:20240326T212102Z
LAST-MODIFIED:20240326T212102Z
UID:3072-1726099200-1726185599@zolamap.fr
SUMMARY:Pain
DESCRIPTION:
URL:https://zolamap.fr/index.php/event/pain-21/
LOCATION:Zolamap\, Ecole Emile Zola\, Villeurbanne
END:VEVENT
BEGIN:VEVENT
DTSTART;TZID=Europe/Paris:20240912T181500
DTEND;TZID=Europe/Paris:20240912T191500
DTSTAMP:20260422T014556
CREATED:20240326T183625Z
LAST-MODIFIED:20240326T183625Z
UID:2956-1726164900-1726168500@zolamap.fr
SUMMARY:Miel
DESCRIPTION:Légumes
URL:https://zolamap.fr/index.php/event/miel-5/
LOCATION:Zolamap\, Ecole Emile Zola\, Villeurbanne
END:VEVENT
BEGIN:VEVENT
DTSTART;TZID=Europe/Paris:20240912T181500
DTEND;TZID=Europe/Paris:20240912T191500
DTSTAMP:20260422T014556
CREATED:20240326T183704Z
LAST-MODIFIED:20240326T183704Z
UID:2958-1726164900-1726168500@zolamap.fr
SUMMARY:Légumes
DESCRIPTION:Légumes
URL:https://zolamap.fr/index.php/event/legumes-6/
LOCATION:Zolamap\, Ecole Emile Zola\, Villeurbanne
END:VEVENT
BEGIN:VEVENT
DTSTART;TZID=Europe/Paris:20240912T181500
DTEND;TZID=Europe/Paris:20240912T191500
DTSTAMP:20260422T014556
CREATED:20240326T211514Z
LAST-MODIFIED:20240326T211514Z
UID:3064-1726164900-1726168500@zolamap.fr
SUMMARY:Vins
DESCRIPTION:
URL:https://zolamap.fr/index.php/event/vins-15/
LOCATION:Zolamap\, Ecole Emile Zola\, Villeurbanne
END:VEVENT
END:VCALENDAR