BEGIN:VCALENDAR
VERSION:2.0
PRODID:-// - ECPv6.15.20//NONSGML v1.0//EN
CALSCALE:GREGORIAN
METHOD:PUBLISH
X-ORIGINAL-URL:https://zolamap.fr
X-WR-CALDESC:Évènements pour 
REFRESH-INTERVAL;VALUE=DURATION:PT1H
X-Robots-Tag:noindex
X-PUBLISHED-TTL:PT1H
BEGIN:VTIMEZONE
TZID:Europe/Paris
BEGIN:DAYLIGHT
TZOFFSETFROM:+0100
TZOFFSETTO:+0200
TZNAME:CEST
DTSTART:20230326T010000
END:DAYLIGHT
BEGIN:STANDARD
TZOFFSETFROM:+0200
TZOFFSETTO:+0100
TZNAME:CET
DTSTART:20231029T010000
END:STANDARD
BEGIN:DAYLIGHT
TZOFFSETFROM:+0100
TZOFFSETTO:+0200
TZNAME:CEST
DTSTART:20240331T010000
END:DAYLIGHT
BEGIN:STANDARD
TZOFFSETFROM:+0200
TZOFFSETTO:+0100
TZNAME:CET
DTSTART:20241027T010000
END:STANDARD
BEGIN:DAYLIGHT
TZOFFSETFROM:+0100
TZOFFSETTO:+0200
TZNAME:CEST
DTSTART:20250330T010000
END:DAYLIGHT
BEGIN:STANDARD
TZOFFSETFROM:+0200
TZOFFSETTO:+0100
TZNAME:CET
DTSTART:20251026T010000
END:STANDARD
END:VTIMEZONE
BEGIN:VEVENT
DTSTART;VALUE=DATE:20240523
DTEND;VALUE=DATE:20240524
DTSTAMP:20260422T082924
CREATED:20240326T204934Z
LAST-MODIFIED:20240326T204934Z
UID:3008-1716422400-1716508799@zolamap.fr
SUMMARY:Pain
DESCRIPTION:
URL:https://zolamap.fr/index.php/event/pain-3/
LOCATION:Zolamap\, Ecole Emile Zola\, Villeurbanne
END:VEVENT
BEGIN:VEVENT
DTSTART;TZID=Europe/Paris:20240523T181500
DTEND;TZID=Europe/Paris:20240523T191500
DTSTAMP:20260422T082924
CREATED:20240326T180322Z
LAST-MODIFIED:20240326T180322Z
UID:2921-1716488100-1716491700@zolamap.fr
SUMMARY:Légumes
DESCRIPTION:Miel
URL:https://zolamap.fr/index.php/event/legumes-4/
LOCATION:Zolamap\, Ecole Emile Zola\, Villeurbanne
END:VEVENT
BEGIN:VEVENT
DTSTART;TZID=Europe/Paris:20240523T181500
DTEND;TZID=Europe/Paris:20240523T191500
DTSTAMP:20260422T082924
CREATED:20240326T180405Z
LAST-MODIFIED:20240326T180405Z
UID:2923-1716488100-1716491700@zolamap.fr
SUMMARY:Miel
DESCRIPTION:Miel
URL:https://zolamap.fr/index.php/event/miel-2/
LOCATION:Zolamap\, Ecole Emile Zola\, Villeurbanne
END:VEVENT
BEGIN:VEVENT
DTSTART;TZID=Europe/Paris:20240523T181500
DTEND;TZID=Europe/Paris:20240523T191500
DTSTAMP:20260422T082924
CREATED:20240326T211457Z
LAST-MODIFIED:20240326T211457Z
UID:3052-1716488100-1716491700@zolamap.fr
SUMMARY:Vins
DESCRIPTION:
URL:https://zolamap.fr/index.php/event/vins-3/
LOCATION:Zolamap\, Ecole Emile Zola\, Villeurbanne
END:VEVENT
END:VCALENDAR