BEGIN:VCALENDAR
VERSION:2.0
PRODID:-// - ECPv6.15.20//NONSGML v1.0//EN
CALSCALE:GREGORIAN
METHOD:PUBLISH
X-ORIGINAL-URL:https://zolamap.fr
X-WR-CALDESC:Évènements pour 
REFRESH-INTERVAL;VALUE=DURATION:PT1H
X-Robots-Tag:noindex
X-PUBLISHED-TTL:PT1H
BEGIN:VTIMEZONE
TZID:Europe/Paris
BEGIN:DAYLIGHT
TZOFFSETFROM:+0100
TZOFFSETTO:+0200
TZNAME:CEST
DTSTART:20230326T010000
END:DAYLIGHT
BEGIN:STANDARD
TZOFFSETFROM:+0200
TZOFFSETTO:+0100
TZNAME:CET
DTSTART:20231029T010000
END:STANDARD
BEGIN:DAYLIGHT
TZOFFSETFROM:+0100
TZOFFSETTO:+0200
TZNAME:CEST
DTSTART:20240331T010000
END:DAYLIGHT
BEGIN:STANDARD
TZOFFSETFROM:+0200
TZOFFSETTO:+0100
TZNAME:CET
DTSTART:20241027T010000
END:STANDARD
BEGIN:DAYLIGHT
TZOFFSETFROM:+0100
TZOFFSETTO:+0200
TZNAME:CEST
DTSTART:20250330T010000
END:DAYLIGHT
BEGIN:STANDARD
TZOFFSETFROM:+0200
TZOFFSETTO:+0100
TZNAME:CET
DTSTART:20251026T010000
END:STANDARD
END:VTIMEZONE
BEGIN:VEVENT
DTSTART;VALUE=DATE:20240516
DTEND;VALUE=DATE:20240517
DTSTAMP:20260422T082924
CREATED:20240326T202137Z
LAST-MODIFIED:20240326T202137Z
UID:2990-1715817600-1715903999@zolamap.fr
SUMMARY:Fromages de chèvre
DESCRIPTION:
URL:https://zolamap.fr/index.php/event/fromages-de-chevre-4/
LOCATION:Zolamap\, Ecole Emile Zola\, Villeurbanne
END:VEVENT
BEGIN:VEVENT
DTSTART;VALUE=DATE:20240516
DTEND;VALUE=DATE:20240517
DTSTAMP:20260422T082924
CREATED:20240326T203411Z
LAST-MODIFIED:20240326T203411Z
UID:3006-1715817600-1715903999@zolamap.fr
SUMMARY:Pain
DESCRIPTION:
URL:https://zolamap.fr/index.php/event/pain-2/
LOCATION:Zolamap\, Ecole Emile Zola\, Villeurbanne
END:VEVENT
BEGIN:VEVENT
DTSTART;TZID=Europe/Paris:20240516T181500
DTEND;TZID=Europe/Paris:20240516T191500
DTSTAMP:20260422T082924
CREATED:20240326T175505Z
LAST-MODIFIED:20240326T175548Z
UID:2916-1715883300-1715886900@zolamap.fr
SUMMARY:Légumes
DESCRIPTION:Légumes
URL:https://zolamap.fr/index.php/event/legumes-3/
END:VEVENT
BEGIN:VEVENT
DTSTART;TZID=Europe/Paris:20240516T181500
DTEND;TZID=Europe/Paris:20240516T191500
DTSTAMP:20260422T082924
CREATED:20240326T211457Z
LAST-MODIFIED:20240326T211457Z
UID:3051-1715883300-1715886900@zolamap.fr
SUMMARY:Vins
DESCRIPTION:
URL:https://zolamap.fr/index.php/event/vins-2/
LOCATION:Zolamap\, Ecole Emile Zola\, Villeurbanne
END:VEVENT
BEGIN:VEVENT
DTSTART;TZID=Europe/Paris:20240516T181500
DTEND;TZID=Europe/Paris:20240516T191500
DTSTAMP:20260422T082924
CREATED:20240518T215142Z
LAST-MODIFIED:20240518T215142Z
UID:3138-1715883300-1715886900@zolamap.fr
SUMMARY:Poulets\, œufs\, plats cuisinés
DESCRIPTION:
URL:https://zolamap.fr/index.php/event/poulets-oeufs-plats-cuisines/
LOCATION:Zolamap\, Ecole Emile Zola\, Villeurbanne
END:VEVENT
END:VCALENDAR