BEGIN:VCALENDAR
VERSION:2.0
PRODID:-// - ECPv6.15.20//NONSGML v1.0//EN
CALSCALE:GREGORIAN
METHOD:PUBLISH
X-ORIGINAL-URL:https://zolamap.fr
X-WR-CALDESC:Évènements pour 
REFRESH-INTERVAL;VALUE=DURATION:PT1H
X-Robots-Tag:noindex
X-PUBLISHED-TTL:PT1H
BEGIN:VTIMEZONE
TZID:Europe/Paris
BEGIN:DAYLIGHT
TZOFFSETFROM:+0100
TZOFFSETTO:+0200
TZNAME:CEST
DTSTART:20230326T010000
END:DAYLIGHT
BEGIN:STANDARD
TZOFFSETFROM:+0200
TZOFFSETTO:+0100
TZNAME:CET
DTSTART:20231029T010000
END:STANDARD
BEGIN:DAYLIGHT
TZOFFSETFROM:+0100
TZOFFSETTO:+0200
TZNAME:CEST
DTSTART:20240331T010000
END:DAYLIGHT
BEGIN:STANDARD
TZOFFSETFROM:+0200
TZOFFSETTO:+0100
TZNAME:CET
DTSTART:20241027T010000
END:STANDARD
BEGIN:DAYLIGHT
TZOFFSETFROM:+0100
TZOFFSETTO:+0200
TZNAME:CEST
DTSTART:20250330T010000
END:DAYLIGHT
BEGIN:STANDARD
TZOFFSETFROM:+0200
TZOFFSETTO:+0100
TZNAME:CET
DTSTART:20251026T010000
END:STANDARD
END:VTIMEZONE
BEGIN:VEVENT
DTSTART;VALUE=DATE:20240307
DTEND;VALUE=DATE:20240308
DTSTAMP:20260424T120134
CREATED:20231011T165128Z
LAST-MODIFIED:20231011T165128Z
UID:2697-1709769600-1709855999@zolamap.fr
SUMMARY:Pain-Vin-Légumes
DESCRIPTION:
URL:https://zolamap.fr/index.php/event/pain-vin-legumes-37/
END:VEVENT
BEGIN:VEVENT
DTSTART;VALUE=DATE:20240307
DTEND;VALUE=DATE:20240308
DTSTAMP:20260424T120134
CREATED:20231015T182809Z
LAST-MODIFIED:20240303T181430Z
UID:2739-1709769600-1709855999@zolamap.fr
SUMMARY:Porc et charcuterie
DESCRIPTION:
URL:https://zolamap.fr/index.php/event/porc-et-charcuterie-4/
END:VEVENT
BEGIN:VEVENT
DTSTART;VALUE=DATE:20240307
DTEND;VALUE=DATE:20240308
DTSTAMP:20260424T120134
CREATED:20240303T181050Z
LAST-MODIFIED:20240303T181150Z
UID:2870-1709769600-1709855999@zolamap.fr
SUMMARY:Flash veau
DESCRIPTION:
URL:https://zolamap.fr/index.php/event/flash-veau/
END:VEVENT
END:VCALENDAR