BEGIN:VCALENDAR
VERSION:2.0
PRODID:-// - ECPv6.15.20//NONSGML v1.0//EN
CALSCALE:GREGORIAN
METHOD:PUBLISH
X-ORIGINAL-URL:https://zolamap.fr
X-WR-CALDESC:Évènements pour 
REFRESH-INTERVAL;VALUE=DURATION:PT1H
X-Robots-Tag:noindex
X-PUBLISHED-TTL:PT1H
BEGIN:VTIMEZONE
TZID:Europe/Paris
BEGIN:DAYLIGHT
TZOFFSETFROM:+0100
TZOFFSETTO:+0200
TZNAME:CEST
DTSTART:20220327T010000
END:DAYLIGHT
BEGIN:STANDARD
TZOFFSETFROM:+0200
TZOFFSETTO:+0100
TZNAME:CET
DTSTART:20221030T010000
END:STANDARD
BEGIN:DAYLIGHT
TZOFFSETFROM:+0100
TZOFFSETTO:+0200
TZNAME:CEST
DTSTART:20230326T010000
END:DAYLIGHT
BEGIN:STANDARD
TZOFFSETFROM:+0200
TZOFFSETTO:+0100
TZNAME:CET
DTSTART:20231029T010000
END:STANDARD
BEGIN:DAYLIGHT
TZOFFSETFROM:+0100
TZOFFSETTO:+0200
TZNAME:CEST
DTSTART:20240331T010000
END:DAYLIGHT
BEGIN:STANDARD
TZOFFSETFROM:+0200
TZOFFSETTO:+0100
TZNAME:CET
DTSTART:20241027T010000
END:STANDARD
END:VTIMEZONE
BEGIN:VEVENT
DTSTART;VALUE=DATE:20231123
DTEND;VALUE=DATE:20231124
DTSTAMP:20260424T174002
CREATED:20231011T164334Z
LAST-MODIFIED:20231011T164334Z
UID:2665-1700697600-1700783999@zolamap.fr
SUMMARY:Pain-Vin-Légumes
DESCRIPTION:
URL:https://zolamap.fr/index.php/event/pain-vin-legumes-23/
END:VEVENT
BEGIN:VEVENT
DTSTART;VALUE=DATE:20231123
DTEND;VALUE=DATE:20231124
DTSTAMP:20260424T174002
CREATED:20231011T170745Z
LAST-MODIFIED:20231011T170745Z
UID:2725-1700697600-1700783999@zolamap.fr
SUMMARY:Lentilles et châtaignes
DESCRIPTION:
URL:https://zolamap.fr/index.php/event/lentilles-et-chataignes/
END:VEVENT
BEGIN:VEVENT
DTSTART;VALUE=DATE:20231123
DTEND;VALUE=DATE:20231124
DTSTAMP:20260424T174002
CREATED:20231029T171401Z
LAST-MODIFIED:20231029T171401Z
UID:2763-1700697600-1700783999@zolamap.fr
SUMMARY:Poulet et œufs
DESCRIPTION:
URL:https://zolamap.fr/index.php/event/poulet-et-oeufs/
END:VEVENT
END:VCALENDAR