BEGIN:VCALENDAR
VERSION:2.0
PRODID:-// - ECPv6.15.20//NONSGML v1.0//EN
CALSCALE:GREGORIAN
METHOD:PUBLISH
X-ORIGINAL-URL:https://zolamap.fr
X-WR-CALDESC:Évènements pour 
REFRESH-INTERVAL;VALUE=DURATION:PT1H
X-Robots-Tag:noindex
X-PUBLISHED-TTL:PT1H
BEGIN:VTIMEZONE
TZID:Europe/Paris
BEGIN:DAYLIGHT
TZOFFSETFROM:+0100
TZOFFSETTO:+0200
TZNAME:CEST
DTSTART:20220327T010000
END:DAYLIGHT
BEGIN:STANDARD
TZOFFSETFROM:+0200
TZOFFSETTO:+0100
TZNAME:CET
DTSTART:20221030T010000
END:STANDARD
BEGIN:DAYLIGHT
TZOFFSETFROM:+0100
TZOFFSETTO:+0200
TZNAME:CEST
DTSTART:20230326T010000
END:DAYLIGHT
BEGIN:STANDARD
TZOFFSETFROM:+0200
TZOFFSETTO:+0100
TZNAME:CET
DTSTART:20231029T010000
END:STANDARD
BEGIN:DAYLIGHT
TZOFFSETFROM:+0100
TZOFFSETTO:+0200
TZNAME:CEST
DTSTART:20240331T010000
END:DAYLIGHT
BEGIN:STANDARD
TZOFFSETFROM:+0200
TZOFFSETTO:+0100
TZNAME:CET
DTSTART:20241027T010000
END:STANDARD
END:VTIMEZONE
BEGIN:VEVENT
DTSTART;VALUE=DATE:20230413
DTEND;VALUE=DATE:20230414
DTSTAMP:20260425T043416
CREATED:20221013T084343Z
LAST-MODIFIED:20221023T100856Z
UID:2285-1681344000-1681430399@zolamap.fr
SUMMARY:Miels & Plantes /
DESCRIPTION:
URL:https://zolamap.fr/index.php/event/miels-plantes-4/
LOCATION:Zolamap\, Ecole Emile Zola\, Villeurbanne
END:VEVENT
BEGIN:VEVENT
DTSTART;VALUE=DATE:20230413
DTEND;VALUE=DATE:20230414
DTSTAMP:20260425T043416
CREATED:20221022T110958Z
LAST-MODIFIED:20221022T110958Z
UID:2386-1681344000-1681430399@zolamap.fr
SUMMARY:Pains et vins (pas de légumes)
DESCRIPTION:
URL:https://zolamap.fr/index.php/event/pains-et-vins-pas-de-legumes-5/
END:VEVENT
BEGIN:VEVENT
DTSTART;VALUE=DATE:20230413
DTEND;VALUE=DATE:20230414
DTSTAMP:20260425T043416
CREATED:20230211T195054Z
LAST-MODIFIED:20230211T195208Z
UID:2469-1681344000-1681430399@zolamap.fr
SUMMARY:Poulets/oeufs
DESCRIPTION:
URL:https://zolamap.fr/index.php/event/poulets-oeufs-2/
END:VEVENT
BEGIN:VEVENT
DTSTART;VALUE=DATE:20230413
DTEND;VALUE=DATE:20230414
DTSTAMP:20260425T043416
CREATED:20230225T111505Z
LAST-MODIFIED:20230225T111505Z
UID:2477-1681344000-1681430399@zolamap.fr
SUMMARY:Noix
DESCRIPTION:
URL:https://zolamap.fr/index.php/event/noix-3/
END:VEVENT
BEGIN:VEVENT
DTSTART;VALUE=DATE:20230413
DTEND;VALUE=DATE:20230414
DTSTAMP:20260425T043416
CREATED:20230317T122955Z
LAST-MODIFIED:20230317T122955Z
UID:2516-1681344000-1681430399@zolamap.fr
SUMMARY:Flash agneau
DESCRIPTION:
URL:https://zolamap.fr/index.php/event/flash-agneau/
END:VEVENT
END:VCALENDAR